BEGIN:VCALENDAR
VERSION:2.0
PRODID:-//Artaban - ECPv6.15.20//NONSGML v1.0//EN
CALSCALE:GREGORIAN
METHOD:PUBLISH
X-ORIGINAL-URL:https://artaban-asso.com
X-WR-CALDESC:Évènements pour Artaban
REFRESH-INTERVAL;VALUE=DURATION:PT1H
X-Robots-Tag:noindex
X-PUBLISHED-TTL:PT1H
BEGIN:VTIMEZONE
TZID:UTC
BEGIN:STANDARD
TZOFFSETFROM:+0000
TZOFFSETTO:+0000
TZNAME:UTC
DTSTART:20240101T000000
END:STANDARD
END:VTIMEZONE
BEGIN:VEVENT
DTSTART;TZID=UTC:20250310T140000
DTEND;TZID=UTC:20250310T153000
DTSTAMP:20260425T203528
CREATED:20240908T082252Z
LAST-MODIFIED:20250824T065550Z
UID:1022-1741615200-1741620600@artaban-asso.com
SUMMARY:Tours - L'arbre de la connaissance est-il toujours d'actualité ?
DESCRIPTION:La figure classique de l’arbre de vie est une source d’inspiration inépuisable pour les artistes de la chrétienté jusqu’au XXème siècle. Le thème connaît en effet un renouveau étonnant avec les artistes symbolistes. De façon moins narrative\, les arbres y sont vus comme des piliers qui relient le monde matériel à une réalité supérieure. \nLe thème du «bois sacré»\, adopté par Paul Gauguin et les peintres Nabis lors de leurs séjours à Pont-Aven\, est l’un des exemples les plus significatifs de cette interprétation symboliste\, profondément spirituelle\, du paysage. Celle-ci puise dans le poème Correspondances de Charles Baudelaire\, qui assimile la nature à un temple et la vie humaine à un chemin à travers une forêt de symboles. \n\nRéservez votre place ici.
URL:https://artaban-asso.com/event/tours-larbre-de-la-connaissance-est-il-toujours-dactualite/
LOCATION:Tours\, Cinema CGR Tours centre – 4\, Place François Truffaut\, Tours\, 37000
CATEGORIES:Mythe,Tours
ATTACH;FMTTYPE=image/jpeg:https://artaban-asso.com/wp-content/uploads/2024/09/1200px-Serusier_-_the_talisman.jpg
END:VEVENT
BEGIN:VEVENT
DTSTART;TZID=UTC:20250331T140000
DTEND;TZID=UTC:20250331T153000
DTSTAMP:20260425T203528
CREATED:20240908T083028Z
LAST-MODIFIED:20250824T065244Z
UID:1023-1743429600-1743435000@artaban-asso.com
SUMMARY:Tours - Les voyages d’Ulysse dans l’art
DESCRIPTION:“Heureux qui comme Ulysse a fait un long voyage” ? Pas si sûr. L’Odyssée est un récit bien connu\, mais comment raconter la galère maritime d’un des plus grands héros de la mythologie grecque ? \nÀ travers des œuvres de toutes époques nous suivrons les aventures du roi d’Ithaque pour son long retour de la Guerre de Troie\, des vases antiques aux lithographies de Chagall. \n\nRéservez votre place ici.
URL:https://artaban-asso.com/event/tours-les-voyages-dulysse-dans-lart/
LOCATION:Tours\, Cinema CGR Tours centre – 4\, Place François Truffaut\, Tours\, 37000
CATEGORIES:Mythe,Tours,Toutes périodes
ATTACH;FMTTYPE=image/jpeg:https://artaban-asso.com/wp-content/uploads/2024/09/17-ULYSSE-Peintre-de-la-Sirene-vase-eponyme-Stamnos-attique-a-figures-rouges-vers-480-470-av.jpg
END:VEVENT
BEGIN:VEVENT
DTSTART;TZID=UTC:20250331T180000
DTEND;TZID=UTC:20250331T193000
DTSTAMP:20260425T203528
CREATED:20240908T114655Z
LAST-MODIFIED:20240908T114655Z
UID:1042-1743444000-1743449400@artaban-asso.com
SUMMARY:La Roche sur Yon - Le baiser
DESCRIPTION:Il s’agira pour nous de partir en quête du baiser tel que les artistes l’ont représenté dans la peinture\, la gravure ou la sculpture\, depuis l’Antiquité jusqu’à la période moderne. Paradigme de l’incandescence amoureuse et sexuelle\, le baiser est aussi prétexte à des démonstrations morales dont nous tâcherons de cerner les enjeux.
URL:https://artaban-asso.com/event/la-roche-sur-yon-le-baiser/
LOCATION:CYEL\, 10\, Rue Salvador Allende\, La Roche sur Yon\, 85000
CATEGORIES:Iconographie,La Roche sur Yon,Toutes périodes
ATTACH;FMTTYPE=image/jpeg:https://artaban-asso.com/wp-content/uploads/2024/09/11-Borghese_Leda-et-cygne.jpeg
END:VEVENT
END:VCALENDAR