BEGIN:VCALENDAR
VERSION:2.0
PRODID:-//Artaban - ECPv6.15.20//NONSGML v1.0//EN
CALSCALE:GREGORIAN
METHOD:PUBLISH
X-ORIGINAL-URL:https://artaban-asso.com
X-WR-CALDESC:Évènements pour Artaban
REFRESH-INTERVAL;VALUE=DURATION:PT1H
X-Robots-Tag:noindex
X-PUBLISHED-TTL:PT1H
BEGIN:VTIMEZONE
TZID:Europe/Paris
BEGIN:DAYLIGHT
TZOFFSETFROM:+0100
TZOFFSETTO:+0200
TZNAME:CEST
DTSTART:20250330T010000
END:DAYLIGHT
BEGIN:STANDARD
TZOFFSETFROM:+0200
TZOFFSETTO:+0100
TZNAME:CET
DTSTART:20251026T010000
END:STANDARD
BEGIN:DAYLIGHT
TZOFFSETFROM:+0100
TZOFFSETTO:+0200
TZNAME:CEST
DTSTART:20260329T010000
END:DAYLIGHT
BEGIN:STANDARD
TZOFFSETFROM:+0200
TZOFFSETTO:+0100
TZNAME:CET
DTSTART:20261025T010000
END:STANDARD
BEGIN:DAYLIGHT
TZOFFSETFROM:+0100
TZOFFSETTO:+0200
TZNAME:CEST
DTSTART:20270328T010000
END:DAYLIGHT
BEGIN:STANDARD
TZOFFSETFROM:+0200
TZOFFSETTO:+0100
TZNAME:CET
DTSTART:20271031T010000
END:STANDARD
END:VTIMEZONE
BEGIN:VTIMEZONE
TZID:UTC
BEGIN:STANDARD
TZOFFSETFROM:+0000
TZOFFSETTO:+0000
TZNAME:UTC
DTSTART:20250101T000000
END:STANDARD
END:VTIMEZONE
BEGIN:VEVENT
DTSTART;TZID=Europe/Paris:20260302T140000
DTEND;TZID=Europe/Paris:20260302T153000
DTSTAMP:20260424T225904
CREATED:20250816T092714Z
LAST-MODIFIED:20250923T052904Z
UID:1565-1772460000-1772465400@artaban-asso.com
SUMMARY:2 mars à Tours – Caravage\, un parcours en clair-obscur
DESCRIPTION:Caravage\, un parcours en clair-obscur\nPartons dans l’univers intense et fascinant de Michelangelo Merisi\, dit Caravage\, maître incontesté du clair-obscur. Entre lumière crue et ombres profondes\, découvrez comment ce peintre voyageur a révolutionné la peinture baroque par ses œuvres puissantes\, parfois scandaleuses\, mais toujours d’une incroyable modernité. \nCette conférence vous invite à suivre son parcours mouvementé\, de Rome à Naples\, en passant par Malte\, pour comprendre comment sa vie romanesque a nourri un art unique\, marqué par la tension entre spiritualité et violence. Un rendez-vous captivant pour explorer une figure majeure qui a bouleversé l’histoire de l’art avec ses contrastes saisissants.
URL:https://artaban-asso.com/event/tours-caravage-un-parcours-en-clair-obscur/
LOCATION:Tours\, Cinema CGR Tours centre – 4\, Place François Truffaut\, Tours\, 37000
CATEGORIES:Monographie,Renaissance,Tours
ATTACH;FMTTYPE=image/png:https://artaban-asso.com/wp-content/uploads/2025/08/12-Caravage-La-Vocation-de-saint-Matthieu-1600-Saint-Louis-des-Francais.png
END:VEVENT
BEGIN:VEVENT
DTSTART;TZID=Europe/Paris:20260309T140000
DTEND;TZID=Europe/Paris:20260309T153000
DTSTAMP:20260424T225904
CREATED:20250816T094430Z
LAST-MODIFIED:20250923T052904Z
UID:1568-1773064800-1773070200@artaban-asso.com
SUMMARY:9 mars à Tours – José de Ribera\, sublime clair-obscur
DESCRIPTION:José de Ribera\, sublime clair-obscur\nJosé de Ribera fut l’un des peintres caravagesques les plus renommés de son temps. Espagnol installé en Italie\, il fut le représentant de l’orientation napolitaine de cette peinture de clair-obscur que Caravage avait diffusée dans la péninsule. \nSon art est à la fois rugueux et poétique. Son réalisme sans concession en fait l’un des grands interprètes des drames humains qu’il excelle à mettre en scène d’abord dans des scènes intimes constituées de mendiants\, apôtres et philosophes acétiques. Son installation à Naples marque aussi l’arrivée de commandes plus prestigieuses destinées à des églises ou à des princes. Plus dramatiques\, les compositions de José de Ribera montrent alors des corps torturés ou écorchés qui reflètent aussi la dureté de son temps.
URL:https://artaban-asso.com/event/tours-jose-de-ribera-sublime-clair-obscur/
LOCATION:Tours\, Cinema CGR Tours centre – 4\, Place François Truffaut\, Tours\, 37000
CATEGORIES:Monographie,Renaissance,Tours
ATTACH;FMTTYPE=image/jpeg:https://artaban-asso.com/wp-content/uploads/2025/08/Jose_de_Ribera_-_Holy_Trinity_-_WGA19373.jpg
END:VEVENT
BEGIN:VEVENT
DTSTART;TZID=Europe/Paris:20260316T140000
DTEND;TZID=Europe/Paris:20260316T153000
DTSTAMP:20260424T225904
CREATED:20250816T110350Z
LAST-MODIFIED:20260310T115935Z
UID:1576-1773669600-1773675000@artaban-asso.com
SUMMARY:16 mars à Tours – Voyage en Sicile
DESCRIPTION:Voyage en Sicile : sur les traces du Caravage\nAu début du XVIIème siècle\, Caravage quitte l’Italie pour la Sicile\, où il reste plusieurs mois\, entre Syracuse\, Messine et Palerme. Cette période\, complexe parce qu’en fuite\, est malgré tout un temps où il continue de peindre. \nCette conférence propose de présenter quelques « Caravage » siciliens mais\, surtout d’en profiter pour raconter Palerme et la Sicile. Une ville à l’histoire très riche\, au carrefour des civilisations occidentales et orientales\, dont est né ce qui est présenté comme le style arabo-normand\, qu’a côtoyé Caravage pendant ce « séjour ». Ces influences multiples connaîtront un nouvel essor à la fin du XIXème siècle avec le style Liberty\, version sicilienne de l’Art Nouveau. \n 
URL:https://artaban-asso.com/event/tours-voyage-en-sicile-sur-les-traces-du-caravage/
LOCATION:Tours\, Cinema CGR Tours centre – 4\, Place François Truffaut\, Tours\, 37000
CATEGORIES:Monographie,Renaissance,Tours
ATTACH;FMTTYPE=image/jpeg:https://artaban-asso.com/wp-content/uploads/2025/08/Le-opere-di-Caravaggio-in-Sicilia-930x620-1.jpg
END:VEVENT
BEGIN:VEVENT
DTSTART;TZID=UTC:20260323T140000
DTEND;TZID=UTC:20260323T153000
DTSTAMP:20260424T225904
CREATED:20260228T130237Z
LAST-MODIFIED:20260307T142234Z
UID:2310-1774274400-1774279800@artaban-asso.com
SUMMARY:23 mars à Tours - Miles Davis\, une personnalité incontournable du Jazz
DESCRIPTION:Miles Davis\, trompettiste et compositeur de jazz\, a traversé le XXème siècle et les périodes successives du jazz. \nUtilisant ses différentes formations comme des laboratoires qu’il alimentera constamment de jeunes musiciens\, il n’aura de cesse de réinventer cette musique. \nÀ travers la biographie du musicien\, la conférence cherchera à analyser les différents courants qu’il aura contribué à développer.
URL:https://artaban-asso.com/event/tours-miles-davis-une-personnalite-incontournable-du-jazz/
LOCATION:Tours\, Cinema CGR Tours centre – 4\, Place François Truffaut\, Tours\, 37000
CATEGORIES:20ème siècle,Monographie,Tours
ATTACH;FMTTYPE=image/jpeg:https://artaban-asso.com/wp-content/uploads/2024/09/Miles_Davis_Three_Deuces_New_York_N.Y._1947.jpg
END:VEVENT
BEGIN:VEVENT
DTSTART;TZID=Europe/Paris:20260330T140000
DTEND;TZID=Europe/Paris:20260330T153000
DTSTAMP:20260424T225904
CREATED:20250816T095148Z
LAST-MODIFIED:20250923T052904Z
UID:1571-1774879200-1774884600@artaban-asso.com
SUMMARY:30 mars à Tours – Sorcières au Château des ducs de Bretagne
DESCRIPTION:Sorcières au Château des ducs de Bretagne – Du 7 février au 28 juin 2026\nPendant plusieurs siècles\, des femmes bien réelles furent accusées d’invoquer des forces maléfiques et de jeter des sorts à des innocents\, de la fin du Moyen Âge à la Renaissance. L’exposition du Château des Ducs de Bretagne explorera les différentes figures historiques ou légendaires des magiciennes et des sorcières\, en remontant jusqu’à l’Antiquité. \nUne approche novatrice mettra en lumière les biographies de femmes accusées et condamnées pour sorcellerie entre la fin du Moyen Âge et l’époque moderne\, illustrant leurs parcours tragiques. Voici un beau complément à l’imaginaire plus moderne posé par l’exposition de Pont-Aven ! À travers un parcours riche de plus de 150 objets et documents originaux\, dont une cinquantaine d’œuvres majeures\, l’exposition est l’événement nantais du printemps 2026.
URL:https://artaban-asso.com/event/tours-sorcieres-au-chateau-des-ducs-de-bretagne/
LOCATION:Tours\, Cinema CGR Tours centre – 4\, Place François Truffaut\, Tours\, 37000
CATEGORIES:Expo,Tours,Toutes périodes
ATTACH;FMTTYPE=image/jpeg:https://artaban-asso.com/wp-content/uploads/2025/08/14-Marcantonio-Raimondi-dapres-Girolamo-Genga-Sur-le-chemin-du-Sabbat-gravure-au-burin-vers-1520-scaled.jpg
END:VEVENT
END:VCALENDAR