BEGIN:VCALENDAR
VERSION:2.0
PRODID:-//Artaban - ECPv6.15.20//NONSGML v1.0//EN
CALSCALE:GREGORIAN
METHOD:PUBLISH
X-WR-CALNAME:Artaban
X-ORIGINAL-URL:https://artaban-asso.com
X-WR-CALDESC:Évènements pour Artaban
REFRESH-INTERVAL;VALUE=DURATION:PT1H
X-Robots-Tag:noindex
X-PUBLISHED-TTL:PT1H
BEGIN:VTIMEZONE
TZID:Europe/Paris
BEGIN:DAYLIGHT
TZOFFSETFROM:+0100
TZOFFSETTO:+0200
TZNAME:CEST
DTSTART:20240331T010000
END:DAYLIGHT
BEGIN:STANDARD
TZOFFSETFROM:+0200
TZOFFSETTO:+0100
TZNAME:CET
DTSTART:20241027T010000
END:STANDARD
BEGIN:DAYLIGHT
TZOFFSETFROM:+0100
TZOFFSETTO:+0200
TZNAME:CEST
DTSTART:20250330T010000
END:DAYLIGHT
BEGIN:STANDARD
TZOFFSETFROM:+0200
TZOFFSETTO:+0100
TZNAME:CET
DTSTART:20251026T010000
END:STANDARD
BEGIN:DAYLIGHT
TZOFFSETFROM:+0100
TZOFFSETTO:+0200
TZNAME:CEST
DTSTART:20260329T010000
END:DAYLIGHT
BEGIN:STANDARD
TZOFFSETFROM:+0200
TZOFFSETTO:+0100
TZNAME:CET
DTSTART:20261025T010000
END:STANDARD
END:VTIMEZONE
BEGIN:VEVENT
DTSTART;TZID=Europe/Paris:20251201T140000
DTEND;TZID=Europe/Paris:20251201T153000
DTSTAMP:20260425T022700
CREATED:20250816T074024Z
LAST-MODIFIED:20251111T143324Z
UID:1539-1764597600-1764603000@artaban-asso.com
SUMMARY:1er décembre à Tours – Jacques-Louis David (1748-1825)\, le bicentenaire
DESCRIPTION:Jacques-Louis David 1748-1825 – Le bicentenaire  \nÀ l’occasion du bicentenaire de la mort du peintre néoclassique Jacques-Louis David\, nous vous proposons de plonger au cœur des épopées révolutionnaire et napoléonienne afin de comprendre comment cet artiste a su capturer l’essence de son temps et devenir l’un des piliers de la peinture française. \nCette conférence vous invite à retracer le parcours de David : ses débuts prometteurs\, les bouleversements de la Révolution\, puis son ascension comme peintre officiel de l’Empire. Un regard sur les grandes étapes d’une carrière marquée par l’histoire. L’accent sera ainsi mis sur ses chefs-d’œuvre les plus emblématiques : Le Serment des Horaces\, La Mort de Marat\, Napoléon franchissant le Grand-Saint-Bernard ou encore Le Sacre de Napoléon. Une immersion fascinante dans l’univers de David\, l’artiste-star du tournant des XVIIIe et XIXe siècles. \n\nRéservez votre place ici
URL:https://artaban-asso.com/event/tours-le-bicentenaire-de-jacques-louis-david-au-louvre/
LOCATION:Tours\, Cinema CGR Tours centre – 4\, Place François Truffaut\, Tours\, 37000
CATEGORIES:19ème siècle,Art Moderne,Expo,Monographie,Tours
ATTACH;FMTTYPE=image/jpeg:https://artaban-asso.com/wp-content/uploads/2024/08/4-David-Napoleon.jpg
END:VEVENT
BEGIN:VEVENT
DTSTART;TZID=Europe/Paris:20251208T140000
DTEND;TZID=Europe/Paris:20251208T153000
DTSTAMP:20260425T022700
CREATED:20250816T075754Z
LAST-MODIFIED:20251111T143621Z
UID:1549-1765202400-1765207800@artaban-asso.com
SUMMARY:8 décembre à Tours – Sargent – Les années parisiennes (1874-1884) à Orsay
DESCRIPTION:Sargent – Les années parisiennes (1874-1884) – À Orsay du 23 septembre 2025 au 11 janvier 2026\nÀ l’occasion de la grande exposition que lui consacre le musée d’Orsay\, cette conférence revient sur les années parisiennes de John Singer Sargent\, l’un des plus brillants portraitistes de son temps. Formé dans l’effervescence artistique du Paris des années 1870-1880\, Sargent développe un style virtuose\, audacieux et moderne\, qui brosse une société en mutation. \nDe ses portraits raffinés à ses scènes de genre parfois exotiques\, l’artiste compose une œuvre éblouissante\, marquée par une maîtrise technique héritée des maîtres anciens et un sens aigu des codes sociaux de son époque. Le fameux scandale de Madame X\, les influences impressionnistes\, ses liens avec la société cosmopolite de la Troisième République… autant de jalons d’un parcours singulier à (re)découvrir. \n\nRéservez votre place ici
URL:https://artaban-asso.com/event/tours-sargent-les-annees-parisiennes-1874-1884-a-orsay/
LOCATION:Tours\, Cinema CGR Tours centre – 4\, Place François Truffaut\, Tours\, 37000
CATEGORIES:19ème siècle,Expo,Monographie,Tours
ATTACH;FMTTYPE=image/jpeg:https://artaban-asso.com/wp-content/uploads/2025/08/4_John-Singer-Sargent-Dans-les-jardins-du-Luxembourg-1879-Philadelphia-Museum-of-Art.jpg
END:VEVENT
END:VCALENDAR