BEGIN:VCALENDAR
VERSION:2.0
PRODID:-//Artaban - ECPv6.15.20//NONSGML v1.0//EN
CALSCALE:GREGORIAN
METHOD:PUBLISH
X-WR-CALNAME:Artaban
X-ORIGINAL-URL:https://artaban-asso.com
X-WR-CALDESC:Évènements pour Artaban
REFRESH-INTERVAL;VALUE=DURATION:PT1H
X-Robots-Tag:noindex
X-PUBLISHED-TTL:PT1H
BEGIN:VTIMEZONE
TZID:Europe/Paris
BEGIN:DAYLIGHT
TZOFFSETFROM:+0100
TZOFFSETTO:+0200
TZNAME:CEST
DTSTART:20240331T010000
END:DAYLIGHT
BEGIN:STANDARD
TZOFFSETFROM:+0200
TZOFFSETTO:+0100
TZNAME:CET
DTSTART:20241027T010000
END:STANDARD
BEGIN:DAYLIGHT
TZOFFSETFROM:+0100
TZOFFSETTO:+0200
TZNAME:CEST
DTSTART:20250330T010000
END:DAYLIGHT
BEGIN:STANDARD
TZOFFSETFROM:+0200
TZOFFSETTO:+0100
TZNAME:CET
DTSTART:20251026T010000
END:STANDARD
BEGIN:DAYLIGHT
TZOFFSETFROM:+0100
TZOFFSETTO:+0200
TZNAME:CEST
DTSTART:20260329T010000
END:DAYLIGHT
BEGIN:STANDARD
TZOFFSETFROM:+0200
TZOFFSETTO:+0100
TZNAME:CET
DTSTART:20261025T010000
END:STANDARD
END:VTIMEZONE
BEGIN:VEVENT
DTSTART;TZID=Europe/Paris:20251103T140000
DTEND;TZID=Europe/Paris:20251103T153000
DTSTAMP:20260425T034453
CREATED:20250816T074620Z
LAST-MODIFIED:20251103T120906Z
UID:1545-1762178400-1762183800@artaban-asso.com
SUMMARY:3 novembre à Tours – Le Mystère Cléopâtre à l'Institut du monde arabe
DESCRIPTION:Le Mystère Cléopâtre – Institut du monde arabe – Du 11 juin au 11 janvier 26\nCléopâtre est l’une des plus grandes figures féminines de l’histoire et depuis sa mort\, il y a plus de 2000 ans\, sa notoriété n’a cessé de croître – une renommée d’autant plus surprenante que nulle biographie antique ne la fonde. Autour de sa figure se sont alors forgées des légendes\, “noires ou dorées” nous précise l’exposition de l’Institut du Monde Arabe. \nTour à tour stratège\, brillante intellectuelle\, femme fatale\, succube\, objet de détestation ou de fantasme\, blonde charnelle dans la peinture des 17e et 18e siècle puis brune avec son maquillage iconique au cinéma\, la reine la plus connue de l’histoire méditerranéenne n’a pas fini de nous en mettre plein la vue ! \nL’exposition de l’IMA nous dévoile ainsi le “mystère Cléopâtre”\, à partir des connaissances historiques et archéologiques les plus actuelles\, tout en interrogeant la fondation de sa légende de l’Antiquité jusqu’à aujourd’hui. \n\nRéservez votre place ici
URL:https://artaban-asso.com/event/tours-le-mystere-cleopatre-a-linstitut-du-monde-arabe/
LOCATION:Tours\, Cinema CGR Tours centre – 4\, Place François Truffaut\, Tours\, 37000
CATEGORIES:Antiquité,Expo,Monographie,Tours
ATTACH;FMTTYPE=image/jpeg:https://artaban-asso.com/wp-content/uploads/2025/08/7-Alexandre-Cabanel-Cleopatre_essayant_des_poisons_sur_des_condamnes_a_mort-1.jpg
END:VEVENT
BEGIN:VEVENT
DTSTART;TZID=Europe/Paris:20251117T140000
DTEND;TZID=Europe/Paris:20251117T153000
DTSTAMP:20260425T034453
CREATED:20250816T074430Z
LAST-MODIFIED:20251031T123451Z
UID:1543-1763388000-1763393400@artaban-asso.com
SUMMARY:17 novembre à Tours - Berthe Weill\, galeriste d'avant-garde au Musée de l'Orangerie
DESCRIPTION:Berthe Weill\, galeriste d’avant-garde – Musée de l’Orangerie – 8 octobre – 26 janvier 26  \nBerthe Weill est l’une des exceptions de son époque que l’on aime redécouvrir. En 1901\, elle ouvre sa première galerie et souhaite représenter les jeunes artistes de son temps. Avec son œil affuté\, elle mise sur les plus avant-gardistes : Pablo Picasso\, Amedeo Modigliani\, Henri Matisse… \nBerthe Weill s’engage également auprès des femmes artistes\, exposant régulièrement les travaux de Jacqueline Marval ou encore Suzanne Valadon. Pendant 40 ans\, la galeriste œuvre pour la reconnaissance de nombreux artistes et participe au rayonnement culturel parisien. Le Musée de l’Orangerie remet à l’honneur l’une des pionnières du marché de l’art. \n\nRéservez votre place ici
URL:https://artaban-asso.com/event/tours-berthe-weill-galeriste-davant-garde-au-musee-de-lorangerie/
LOCATION:Tours\, Cinema CGR Tours centre – 4\, Place François Truffaut\, Tours\, 37000
CATEGORIES:20ème siècle,Expo,Monographie,Tours
ATTACH;FMTTYPE=image/jpeg:https://artaban-asso.com/wp-content/uploads/2025/08/1-Raoul-Dufy-30-ans-ou-la-vie-en-rose-1931-Musee-des-Beaux-Arts-de-Montreal-scaled.jpg
END:VEVENT
BEGIN:VEVENT
DTSTART;TZID=Europe/Paris:20251124T140000
DTEND;TZID=Europe/Paris:20251124T153000
DTSTAMP:20260425T034453
CREATED:20250816T074248Z
LAST-MODIFIED:20251031T123605Z
UID:1541-1763992800-1763998200@artaban-asso.com
SUMMARY:24 novembre à Tours – Niki de Saint Phalle\, Jean Tinguely\, Pontus Hultén au Grand Palais
DESCRIPTION:Niki de Saint Phalle\, Jean Tinguely\, Pontus Hultén au Grand Palais du 10 juin au 4 janvier 2026\nLe duo d’artistes Niki de Saint Phalle et Jean Tinguely n’aurait jamais connu un tel rayonnement sans le soutien discret mais essentiel de leur ami Pontus Hulten. Ce grand homme de musée a œuvré en coulisses pour faire connaître leurs œuvres monumentales\, joyeuses\, bruyantes et parfois éphémères. Suivre leurs aventures\, c’est découvrir l’histoire d’une amitié hors du commun entre une artiste franco-américaine\, un artiste suisse et un directeur de musée suédois\, tous portés par une même passion : faire bouger les lignes de l’art et de la société. \nÀ l’occasion de l’exposition du Grand Palais\, cette conférence propose de plonger dans l’univers foisonnant de Niki de Saint Phalle et Jean Tinguely. Un voyage au cœur d’une création libre\, rebelle et participative\, où se mêlent œuvres monumentales\, projets visionnaires et amitié hors normes. \n\nRéservez votre place ici
URL:https://artaban-asso.com/event/tours-niki-de-saint-phalle-jean-tinguely-pontus-hulten-au-grand-palais/
LOCATION:Tours\, Cinema CGR Tours centre – 4\, Place François Truffaut\, Tours\, 37000
CATEGORIES:20ème siècle,Art contemporain,Expo,Monographie,Tours
ATTACH;FMTTYPE=image/png:https://artaban-asso.com/wp-content/uploads/2025/08/5-Niki-de-Saint-Phalle-Hon-1966-Stockholm.png
END:VEVENT
END:VCALENDAR