BEGIN:VCALENDAR
VERSION:2.0
PRODID:-//Artaban - ECPv6.15.20//NONSGML v1.0//EN
CALSCALE:GREGORIAN
METHOD:PUBLISH
X-ORIGINAL-URL:https://artaban-asso.com
X-WR-CALDESC:Évènements pour Artaban
REFRESH-INTERVAL;VALUE=DURATION:PT1H
X-Robots-Tag:noindex
X-PUBLISHED-TTL:PT1H
BEGIN:VTIMEZONE
TZID:Europe/Paris
BEGIN:DAYLIGHT
TZOFFSETFROM:+0100
TZOFFSETTO:+0200
TZNAME:CEST
DTSTART:20240331T010000
END:DAYLIGHT
BEGIN:STANDARD
TZOFFSETFROM:+0200
TZOFFSETTO:+0100
TZNAME:CET
DTSTART:20241027T010000
END:STANDARD
BEGIN:DAYLIGHT
TZOFFSETFROM:+0100
TZOFFSETTO:+0200
TZNAME:CEST
DTSTART:20250330T010000
END:DAYLIGHT
BEGIN:STANDARD
TZOFFSETFROM:+0200
TZOFFSETTO:+0100
TZNAME:CET
DTSTART:20251026T010000
END:STANDARD
BEGIN:DAYLIGHT
TZOFFSETFROM:+0100
TZOFFSETTO:+0200
TZNAME:CEST
DTSTART:20260329T010000
END:DAYLIGHT
BEGIN:STANDARD
TZOFFSETFROM:+0200
TZOFFSETTO:+0100
TZNAME:CET
DTSTART:20261025T010000
END:STANDARD
END:VTIMEZONE
BEGIN:VEVENT
DTSTART;TZID=Europe/Paris:20251006T140000
DTEND;TZID=Europe/Paris:20251006T153000
DTSTAMP:20260425T050231
CREATED:20250816T073418Z
LAST-MODIFIED:20250927T075106Z
UID:1537-1759759200-1759764600@artaban-asso.com
SUMMARY:6 octobre à Tours – Musée de Pont-Aven – Sorcières : Fantasmes\, savoirs\, liberté\, 1860-1920
DESCRIPTION:Pont-Aven – Fantasmes\, savoirs\, liberté\, 1860-1920 du 7 juin au 16 novembre\nL’exposition de Pont-Aven\, réalisée en partenariat avec le musée d’Orsay\, explore la représentation des sorcières dans l’art entre 1860 et 1920. Si dans l’imaginaire collectif ces femmes sont associées aux vices ou à la mort\, 1862 marque une rupture avec la publication de « La Sorcière » de l’historien Jules Michelet : la sorcière devient alors à la fois un emblème de révolte\, de connaissance et d’harmonie avec les éléments naturels\, posant les bases de l’éco-féminisme. Loin de se limiter à l’image de la vieille femme maléfique\, la sorcière devient\, au fil des œuvres\, symbole d’émancipation\, de savoir caché\, de désir et de transgression. \nPeintures\, sculptures\, arts graphiques\, objets d’art\, photographie\, cinéma\, danse\, musique… le parcours riche et pluridisciplinaire se déploie autour de trois axes – la nuit\, le corps\, le savoir – pour interroger cette figure fascinante\, entre attraction et répulsion. À l’occasion de cette exposition nous vous proposons une plongée captivante dans l’imaginaire artistique et social d’un XIXe siècle où la sorcière incarne déjà la femme rebelle et libre face aux pouvoirs établis. \n\nRéservez vos places ici
URL:https://artaban-asso.com/event/tours-fantasmes-savoirs-liberte-1860-1920-au-musee-de-pont-aven/
LOCATION:Tours\, Cinema CGR Tours centre – 4\, Place François Truffaut\, Tours\, 37000
CATEGORIES:19ème siècle,Art Moderne,Expo,Tours
ATTACH;FMTTYPE=image/jpeg:https://artaban-asso.com/wp-content/uploads/2025/08/1-Evelyn-De-Morgan-Le-Philtre-dAmour-1903-De-Morgan-Foundation.jpg
END:VEVENT
BEGIN:VEVENT
DTSTART;TZID=Europe/Paris:20251013T140000
DTEND;TZID=Europe/Paris:20251013T153000
DTSTAMP:20260425T050231
CREATED:20250816T075638Z
LAST-MODIFIED:20250927T075204Z
UID:1547-1760364000-1760369400@artaban-asso.com
SUMMARY:13 octobre à Tours – Georges de La Tour au musée Jacquemart-André
DESCRIPTION:Georges de La Tour au musée Jacquemart-André du 11 septembre 2025 au 25 janvier 2026\nGeorges de La Tour\, peintre lorrain au caractère un peu mystérieux\, a su créer un langage pictural très expressif\, grâce à un naturalisme tout en finesse\, des compositions épurées et une grande profondeur spirituelle. \nL’exposition présente une trentaine de peintures et d’œuvres graphiques. Elle suit un parcours thématique qui met en lumière ses sujets favoris – scènes de la vie quotidienne\, figures de saints pénitents\, jeux d’ombre et de lumière – tout en replaçant son travail dans le contexte plus large du caravagisme européen\, en particulier l’influence des peintres caravagesques français\, lorrains et hollandais. \n\nRéservez vos places ici
URL:https://artaban-asso.com/event/tours-georges-de-la-tour-au-musee-jacquemart-andre/
LOCATION:Tours\, Cinema CGR Tours centre – 4\, Place François Truffaut\, Tours\, 37000
CATEGORIES:Expo,Monographie,Renaissance,Tours
ATTACH;FMTTYPE=image/jpeg:https://artaban-asso.com/wp-content/uploads/2025/08/cda2020_georges_de_la_tour_-_the_magdalen_with_the_smoking_flame_-_google_art_project_main-tt-width-1200-height-900-fill-0-crop-1-bgcolor-ffffff.jpg
END:VEVENT
END:VCALENDAR