BEGIN:VCALENDAR
VERSION:2.0
PRODID:-//Artaban - ECPv6.15.20//NONSGML v1.0//EN
CALSCALE:GREGORIAN
METHOD:PUBLISH
X-WR-CALNAME:Artaban
X-ORIGINAL-URL:https://artaban-asso.com
X-WR-CALDESC:Évènements pour Artaban
REFRESH-INTERVAL;VALUE=DURATION:PT1H
X-Robots-Tag:noindex
X-PUBLISHED-TTL:PT1H
BEGIN:VTIMEZONE
TZID:UTC
BEGIN:STANDARD
TZOFFSETFROM:+0000
TZOFFSETTO:+0000
TZNAME:UTC
DTSTART:20240101T000000
END:STANDARD
END:VTIMEZONE
BEGIN:VEVENT
DTSTART;TZID=UTC:20250203T140000
DTEND;TZID=UTC:20250203T153000
DTSTAMP:20260425T153016
CREATED:20240826T132454Z
LAST-MODIFIED:20250118T070622Z
UID:887-1738591200-1738596600@artaban-asso.com
SUMMARY:Tours - Le trompe-l’œil de 1520 à nos jours - Musée Marmottan-Monet
DESCRIPTION:Exposition du 17 octobre 2024 au 2 mars 2025 au Musée Marmottan-Monet\nCette conférence vous propose une plongée dans l’histoire fascinante du trompe-l’œil\, ce genre pictural qui défie nos perceptions depuis l’Antiquité. L’exposition « Le trompe-l’œil\, de 1520 à nos jours » réunit près d’une centaine d’œuvres d’exception\, issues de prestigieuses collections européennes et américaines\, pour explorer les multiples facettes de cette pratique artistique\, des vanités aux créations contemporaines. Nous regarderons ensemble la virtuosité d’artistes tels que Boilly\, Houdon\, Penone ou Pistoletto et nous nous laisserons surprendre par leurs jeux d’apparence sur les médiums les plus variés. Un hommage inédit à l’illusion dans l’art et aux collections du musée Marmottant Monet. \nRéservez votre place ici \n 
URL:https://artaban-asso.com/event/tours-le-trompe-loeil-de-1520-a-nos-jours-musee-marmottan-monet/
CATEGORIES:Art contemporain,Art Moderne,Expo,Tours
ATTACH;FMTTYPE=image/png:https://artaban-asso.com/wp-content/uploads/2024/08/Capture-20240826172227-345x508-1.png
END:VEVENT
BEGIN:VEVENT
DTSTART;TZID=UTC:20250224T140000
DTEND;TZID=UTC:20250224T153000
DTSTAMP:20260425T153016
CREATED:20240826T135450Z
LAST-MODIFIED:20250824T065244Z
UID:891-1740405600-1740411000@artaban-asso.com
SUMMARY:Tours - Histoires de métamorphoses dans les mythes antiques
DESCRIPTION:La mythologie gréco-romaine fut incroyablement inventive et les dieux antiques furent adeptes des métamorphoses spectaculaires. Un parcours illustré sur les traces des plus grands transformistes divins et de leur capacité à manipuler la matière pour faire d’un homme un cerf\, d’une femme une génisse et d’une nymphe un écho. \nRéservez votre place ici
URL:https://artaban-asso.com/event/tours-histoires-de-metamorphoses-dans-les-mythes-antiques/
LOCATION:Tours\, Cinema CGR Tours centre – 4\, Place François Truffaut\, Tours\, 37000
CATEGORIES:Antiquité,Mythe,Tours
ATTACH;FMTTYPE=image/jpeg:https://artaban-asso.com/wp-content/uploads/2024/08/13-Antonio-del-Pollaiuolo-Apollon-et-Daphne-v.-1470-1480-tempera-sur-bois-30-x-20-cm-Londres-National-Gallery.jpg
END:VEVENT
END:VCALENDAR