BEGIN:VCALENDAR
VERSION:2.0
PRODID:-//Artaban - ECPv6.15.20//NONSGML v1.0//EN
CALSCALE:GREGORIAN
METHOD:PUBLISH
X-WR-CALNAME:Artaban
X-ORIGINAL-URL:https://artaban-asso.com
X-WR-CALDESC:Évènements pour Artaban
REFRESH-INTERVAL;VALUE=DURATION:PT1H
X-Robots-Tag:noindex
X-PUBLISHED-TTL:PT1H
BEGIN:VTIMEZONE
TZID:UTC
BEGIN:STANDARD
TZOFFSETFROM:+0000
TZOFFSETTO:+0000
TZNAME:UTC
DTSTART:20230101T000000
END:STANDARD
END:VTIMEZONE
BEGIN:VEVENT
DTSTART;TZID=UTC:20241202T140000
DTEND;TZID=UTC:20241202T153000
DTSTAMP:20260425T182649
CREATED:20240825T105650Z
LAST-MODIFIED:20250824T064128Z
UID:858-1733148000-1733153400@artaban-asso.com
SUMMARY:Tours - Les grands magasins\, une architecture du désir
DESCRIPTION:Exposition à la Cité de l’Architecture de Paris\, du 16 octobre 2024 au 16 mars 2025\nRedécouvrir l’âge d’or des grands magasins entre le milieu du XIXe siècle et les années 1930\, c’est ce que propose de deuxième volet de l’exposition « la saga des grands magasins » présentée à la Cité de l’architecture et du patrimoine. Entre aventures personnelles et contexte favorable\, à travers des exemples parisiens\, internationaux\, mais aussi plus locaux\, il s’agira de s’intéresser à ces architectures monumentales\, parfois modernes\, conçues pour être à la fois éblouissantes et fonctionnelles. \n\nRéserver ma place sur HelloAsso
URL:https://artaban-asso.com/event/tours-grands-magasins/
LOCATION:Tours\, Cinema CGR Tours centre – 4\, Place François Truffaut\, Tours\, 37000
CATEGORIES:19ème siècle,20ème siècle,Art contemporain,Expo,Tours
ATTACH;FMTTYPE=image/jpeg:https://artaban-asso.com/wp-content/uploads/2024/08/Interieur-Samaritaine-Visite-guidee-exposition-Architecture-du-Desir-a-la-Cite-de-larchitecture-1880197193.jpeg
END:VEVENT
BEGIN:VEVENT
DTSTART;TZID=UTC:20241209T140000
DTEND;TZID=UTC:20241209T153000
DTSTAMP:20260425T182649
CREATED:20240825T110019Z
LAST-MODIFIED:20250824T063744Z
UID:860-1733752800-1733758200@artaban-asso.com
SUMMARY:Tours - Exposition "Rodin / Bourdelle. Corps à corps" - Musée Bourdelle de Paris
DESCRIPTION:Exposition du 2 Octobre 2024 au 2 Février 2025\nL’exposition « Rodin / Bourdelle. Corps à corps » au musée Bourdelle de Paris\, organisée en collaboration avec le musée Rodin\, met en lumière les liens et les contrastes entre deux géants de la sculpture : Auguste Rodin et Antoine Bourdelle. Bien que Bourdelle ait travaillé pendant quinze ans comme praticien pour Rodin\, taillant des marbres pour le maître\, leur relation était marquée à la fois par l’admiration et par un désir d’indépendance artistique. \nCette exposition ambitieuse rassemble plus de 160 œuvres\, dont des sculptures\, des dessins\, des peintures et des photographies\, pour explorer les influences réciproques et les divergences créatives entre les deux artistes. À travers des portraits\, des fragments de corps\, des monuments\, et des métamorphoses mythologiques\, l’exposition révèle comment Rodin et Bourdelle ont chacun contribué à redéfinir la sculpture moderne. \n\nRéserver ma place sur HelloAsso
URL:https://artaban-asso.com/event/tours-exposition-rodin-bourdelle-corps-a-corps-musee-bourdelle-de-paris/
LOCATION:Tours\, Cinema CGR Tours centre – 4\, Place François Truffaut\, Tours\, 37000
CATEGORIES:Art contemporain,Expo,Tours
ATTACH;FMTTYPE=image/jpeg:https://artaban-asso.com/wp-content/uploads/2024/08/9-Buste-de-Rodin-par-Bourdelle.jpg
END:VEVENT
END:VCALENDAR