BEGIN:VCALENDAR
VERSION:2.0
PRODID:-//Artaban - ECPv6.15.20//NONSGML v1.0//EN
CALSCALE:GREGORIAN
METHOD:PUBLISH
X-ORIGINAL-URL:https://artaban-asso.com
X-WR-CALDESC:Évènements pour Artaban
REFRESH-INTERVAL;VALUE=DURATION:PT1H
X-Robots-Tag:noindex
X-PUBLISHED-TTL:PT1H
BEGIN:VTIMEZONE
TZID:UTC
BEGIN:STANDARD
TZOFFSETFROM:+0000
TZOFFSETTO:+0000
TZNAME:UTC
DTSTART:20230101T000000
END:STANDARD
END:VTIMEZONE
BEGIN:VEVENT
DTSTART;TZID=UTC:20240923T140000
DTEND;TZID=UTC:20240923T153000
DTSTAMP:20260425T222442
CREATED:20240825T084558Z
LAST-MODIFIED:20240825T110942Z
UID:843-1727100000-1727105400@artaban-asso.com
SUMMARY:Tours - Présentation de la saison 2024-2025 des Tours d'Artaban
DESCRIPTION:Présentation du programme de l’année des Tours d’Artaban\, qui se déroulera comme d’habitude au cinéma CGR de Tours les lundis de 14h à 15h30. \nCette année\, en plus de nos présentations des grandes expositions nationales nous vous proposons quelques rencontres entre mythes et arts ! \nUne rentrée photographique avec la présentation de l’exposition Henri Cartier Bresson du FHEL Landerneau. \nAnnée du surréalisme oblige\, nous vous présenterons l’exposition du centenaire du Centre Pompidou. \nUne belle découverte des beautés romaines à Paris avec l’exposition des chefs d’œuvre de la collection Borghèse au Musée Jacquemart André. \nAmbiance Noël et grand magasin avec la présentation de l’exposition de la Cité de l’architecture « Les grands magasins\, une architecture du désir ». \nLe grand Rodin sera mis en parallèle avec son non moins grand collègue Bourdelle dans l’exposition Rodin/Bourdelle – présentée au Musée Bourdelle de Paris. \nBien évidemment nous parlerons du Louvre ! Pour la présentation de l’exposition « Figures du fou » ! \nAu printemps nous vous proposons des voyages mythologiques\, de l’Égypte ancienne aux mythes nordiques pour de belles découvertes artistiques. \nEt nous retrouverons le merveilleux Henri Matisse au Musée national d’Art Moderne de Paris pour une exposition originale avec sa fille Marguerite. \nBien d’autres surprises vous raviront nous l’espérons encore cette saison !
URL:https://artaban-asso.com/event/tours-presentation-du-programme-de-lannee/
LOCATION:Tours\, Cinema CGR Tours centre – 4\, Place François Truffaut\, Tours\, 37000
CATEGORIES:Tours
ATTACH;FMTTYPE=image/jpeg:https://artaban-asso.com/wp-content/uploads/2024/08/carte-comm-les-tours-dartaban-2024_jardin-vert.jpg
END:VEVENT
BEGIN:VEVENT
DTSTART;TZID=UTC:20240930T140000
DTEND;TZID=UTC:20240930T153000
DTSTAMP:20260425T222442
CREATED:20240825T101140Z
LAST-MODIFIED:20250824T063745Z
UID:851-1727704800-1727710200@artaban-asso.com
SUMMARY:Tours - Exposition Henri Cartier-Bresson - FHEL Landerneau
DESCRIPTION:Exposition du 15 Juin 2024 au 7 Janvier 2025\nIl n’y a pas un seul\, mais bien plusieurs Henri Cartier-Bresson et c’est ce que l’on va pouvoir découvrir au Fond Hélène et Édouard Leclerc pour la Culture de Landerneau jusqu’en janvier ! \nLe jeune Cartier-Bresson\, très influencé par le Surréalisme\, qui voyage en Afrique\, en Italie et au Mexique dans la première moitié des années 1930\, n’est déjà plus le même à la fin de la décennie lorsqu’il s’engage en politique. Après la Seconde Guerre mondiale\, c’est encore un autre tempérament qui s’exprime lorsqu’il fonde l’agence Magnum Photos et s’en va photographier à travers le monde. La plupart des ouvrages et des expositions monographiques consacrés au photographe se sont évertués à démontrer l’unité stylistique de son œuvre. À rebours de cette approche unificatrice\, et sans doute aussi un peu réductrice\, le présent projet a pour ambition de mettre en évidence la diversité de son approche photographique dans ses différents moments. À travers l’histoire de cet œil multifacette\, cette grande rétrospective retrace aussi celle du XXe siècle. \nCartier-Bresson refusait de se laisser filmer ou photographier. Il ne voulait pas être reconnu dans la rue afin de pouvoir continuer à travailler sereinement. Mais après son exposition au MoMA de New York en 1947\, il est devenu\, à son corps défendant\, l’un des photographes les plus admirés de son époque\, une véritable légende vivante. Beaucoup de professionnels ou d’amateurs qui le croisaient occasionnellement l’ont ainsi photographié\, le plus souvent contre son gré. Il existe donc quantité de portraits de Cartier-Bresson en train d’opérer. Constituée de 300 œuvres parmi les plus connues\, mais aussi de découvertes\, la présente rétrospective est construite autour de ces portraits. \n\nRéserver ma place sur HelloAsso
URL:https://artaban-asso.com/event/tours-exposition-henri-cartier-bresson-fhel-landerneau/
LOCATION:Tours\, Cinema CGR Tours centre – 4\, Place François Truffaut\, Tours\, 37000
CATEGORIES:20ème siècle,Expo,Tours
ATTACH;FMTTYPE=image/jpeg:https://artaban-asso.com/wp-content/uploads/2024/08/1-Cartier-Bresson-Affiche-1.jpg
END:VEVENT
END:VCALENDAR