BEGIN:VCALENDAR
VERSION:2.0
PRODID:-//Artaban - ECPv6.15.20//NONSGML v1.0//EN
CALSCALE:GREGORIAN
METHOD:PUBLISH
X-ORIGINAL-URL:https://artaban-asso.com
X-WR-CALDESC:Évènements pour Artaban
REFRESH-INTERVAL;VALUE=DURATION:PT1H
X-Robots-Tag:noindex
X-PUBLISHED-TTL:PT1H
BEGIN:VTIMEZONE
TZID:UTC
BEGIN:STANDARD
TZOFFSETFROM:+0000
TZOFFSETTO:+0000
TZNAME:UTC
DTSTART:20240101T000000
END:STANDARD
END:VTIMEZONE
BEGIN:VEVENT
DTSTART;TZID=UTC:20250317T180000
DTEND;TZID=UTC:20250317T193000
DTSTAMP:20260419T233809
CREATED:20240908T114000Z
LAST-MODIFIED:20250216T123222Z
UID:1039-1742234400-1742239800@artaban-asso.com
SUMMARY:La Roche sur Yon - La place du livre dans l'histoire de la photographie : focus sur quelques livres-icônes
DESCRIPTION:Plus que sur les cimaises des galeries\, les photographes ont trouvé dans le livre un support particulièrement bien adapté à leur art. À partir de la présentation de quelques livres cultes\, cette conférence montre le rôle joué par ceux-ci dans l’histoire de la photographie.
URL:https://artaban-asso.com/event/la-roche-sur-yon-la-place-du-livre-dans-lhistoire-de-la-photographie-focus-sur-quelques-livres-icones/
LOCATION:CYEL\, 10\, Rue Salvador Allende\, La Roche sur Yon\, 85000
CATEGORIES:19ème siècle,20ème siècle,La Roche sur Yon
ATTACH;FMTTYPE=image/jpeg:https://artaban-asso.com/wp-content/uploads/2024/09/400-illustration_id-1725952172.jpg
END:VEVENT
END:VCALENDAR