BEGIN:VCALENDAR
VERSION:2.0
PRODID:-//Artaban - ECPv6.15.20//NONSGML v1.0//EN
CALSCALE:GREGORIAN
METHOD:PUBLISH
X-WR-CALNAME:Artaban
X-ORIGINAL-URL:https://artaban-asso.com
X-WR-CALDESC:Évènements pour Artaban
REFRESH-INTERVAL;VALUE=DURATION:PT1H
X-Robots-Tag:noindex
X-PUBLISHED-TTL:PT1H
BEGIN:VTIMEZONE
TZID:UTC
BEGIN:STANDARD
TZOFFSETFROM:+0000
TZOFFSETTO:+0000
TZNAME:UTC
DTSTART:20240101T000000
END:STANDARD
END:VTIMEZONE
BEGIN:VEVENT
DTSTART;TZID=UTC:20250120T180000
DTEND;TZID=UTC:20250120T193000
DTSTAMP:20260420T021510
CREATED:20240908T105707Z
LAST-MODIFIED:20250107T072107Z
UID:1032-1737396000-1737401400@artaban-asso.com
SUMMARY:La Roche sur Yon - Une histoire de la photographie\, XIX-XX° siècles
DESCRIPTION:L’histoire de la photographie est révélatrice d’une dynamique où s’entrecroisent enjeux de création\, contraintes économiques et innovations technologiques. De l’invention de cet art par Niépce aux bouleversements provoqués par le numérique\, cette conférence aborde l’histoire de la création photographique au regard des contraintes économiques et des innovations technologiques propres à ce medium.
URL:https://artaban-asso.com/event/la-roche-sur-yon-une-histoire-de-la-photographie-xix-xx-siecles/
LOCATION:CYEL\, 10\, Rue Salvador Allende\, La Roche sur Yon\, 85000
CATEGORIES:19ème siècle,20ème siècle,La Roche sur Yon
END:VEVENT
END:VCALENDAR