BEGIN:VCALENDAR
VERSION:2.0
PRODID:-//Artaban - ECPv6.15.20//NONSGML v1.0//EN
CALSCALE:GREGORIAN
METHOD:PUBLISH
X-WR-CALNAME:Artaban
X-ORIGINAL-URL:https://artaban-asso.com
X-WR-CALDESC:Évènements pour Artaban
REFRESH-INTERVAL;VALUE=DURATION:PT1H
X-Robots-Tag:noindex
X-PUBLISHED-TTL:PT1H
BEGIN:VTIMEZONE
TZID:Europe/Paris
BEGIN:DAYLIGHT
TZOFFSETFROM:+0100
TZOFFSETTO:+0200
TZNAME:CEST
DTSTART:20250330T010000
END:DAYLIGHT
BEGIN:STANDARD
TZOFFSETFROM:+0200
TZOFFSETTO:+0100
TZNAME:CET
DTSTART:20251026T010000
END:STANDARD
BEGIN:DAYLIGHT
TZOFFSETFROM:+0100
TZOFFSETTO:+0200
TZNAME:CEST
DTSTART:20260329T010000
END:DAYLIGHT
BEGIN:STANDARD
TZOFFSETFROM:+0200
TZOFFSETTO:+0100
TZNAME:CET
DTSTART:20261025T010000
END:STANDARD
BEGIN:DAYLIGHT
TZOFFSETFROM:+0100
TZOFFSETTO:+0200
TZNAME:CEST
DTSTART:20270328T010000
END:DAYLIGHT
BEGIN:STANDARD
TZOFFSETFROM:+0200
TZOFFSETTO:+0100
TZNAME:CET
DTSTART:20271031T010000
END:STANDARD
END:VTIMEZONE
BEGIN:VEVENT
DTSTART;TZID=Europe/Paris:20260112T140000
DTEND;TZID=Europe/Paris:20260112T153000
DTSTAMP:20260424T202918
CREATED:20250828T152802Z
LAST-MODIFIED:20260110T160353Z
UID:2128-1768226400-1768231800@artaban-asso.com
SUMMARY:ANNULÉE – 12 janvier à Tours – Jean-Baptiste Greuze : Peindre l'enfance au Petit Palais
DESCRIPTION:Attention\, la conférence du 12 janvier est annulée suite à l’indisponibilité du conférencier\nANNULÉE – Jean-Baptiste Greuze : Peindre l’enfance – Petit Palais du 16 Septembre au 25 janvier 2026\nJean-Baptiste Greuze (1725-1805)\, figure essentielle mais trop souvent méconnue du XVIIIème siècle français\, nous invite à regarder autrement l’enfance : non pas comme simple motif\, mais comme un regard sur nous-mêmes et sur notre société. \nDans ses portraits et scènes de genre d’une étonnante sensibilité\, l’enfant cesse d’être un sujet accessoire pour devenir le miroir des grandes préoccupations de son temps : la famille\, l’éducation\, l’autorité\, l’émancipation et la construction de soi. \nGreuze peint avec une empathie rare le passage de l’innocence à la conscience\, la force des liens et l’éveil des désirs. Autant de thèmes qui\, loin d’être seulement historiques\, résonnent profondément aujourd’hui. \nÀ travers une centaine d’œuvres venues du monde entier\, l’exposition « Peindre l’enfance » propose une redécouverte audacieuse de Greuze : non plus comme un peintre « sentimental »\, mais comme un observateur subtil de l’humain en devenir.
URL:https://artaban-asso.com/event/12-janvier-a-tours-jean-baptiste-greuze-peindre-lenfance-au-petit-palais/
LOCATION:Tours\, Cinema CGR Tours centre – 4\, Place François Truffaut\, Tours\, 37000
CATEGORIES:Art Moderne,Expo,Tours
ATTACH;FMTTYPE=image/jpeg:https://artaban-asso.com/wp-content/uploads/2025/08/Greuze_Jean-Baptiste_-_The_Spoiled_Child_-_low_res.jpg
END:VEVENT
BEGIN:VEVENT
DTSTART;TZID=Europe/Paris:20260116T190000
DTEND;TZID=Europe/Paris:20260116T193000
DTSTAMP:20260424T202918
CREATED:20250818T140835Z
LAST-MODIFIED:20250820T120729Z
UID:1815-1768590000-1768591800@artaban-asso.com
SUMMARY:16 janvier à Saint-Jean-de-Monts – Artémisia Gentileschi et Georges De La Tour : clair-obscur et génie baroque
DESCRIPTION:Artémisia Gentileschi et Georges De La Tour : clair-obscur et génie baroque\nEn lien avec les deux expositions programmées en 2025 au musée Jacquemart-André\, cette conférence propose une plongée dans l’univers d’Artemisia Gentileschi\, figure majeure de l’art baroque et du courant caravagesque\, ainsi que dans celui de Georges de La Tour\, peintre français mystérieux dont le musée de Nantes conserve trois chefs-d’œuvre remarquables.
URL:https://artaban-asso.com/event/saint-jean-de-monts-artemisia-gentileschi-et-georges-de-la-tour-clair-obscur-et-genie-baroque/
LOCATION:Médiathèque de Saint-Jean-de-Monts\, Boulevard Maréchal Leclerc\, Saint-Jean-de-Monts\, 85160
CATEGORIES:Monographie,Renaissance,Saint-Jean-de-Monts
ATTACH;FMTTYPE=image/jpeg:https://artaban-asso.com/wp-content/uploads/2025/08/3_GENT_Danae.jpg
END:VEVENT
END:VCALENDAR