BEGIN:VCALENDAR
VERSION:2.0
PRODID:-//Artaban - ECPv6.15.20//NONSGML v1.0//EN
CALSCALE:GREGORIAN
METHOD:PUBLISH
X-WR-CALNAME:Artaban
X-ORIGINAL-URL:https://artaban-asso.com
X-WR-CALDESC:Évènements pour Artaban
REFRESH-INTERVAL;VALUE=DURATION:PT1H
X-Robots-Tag:noindex
X-PUBLISHED-TTL:PT1H
BEGIN:VTIMEZONE
TZID:UTC
BEGIN:STANDARD
TZOFFSETFROM:+0000
TZOFFSETTO:+0000
TZNAME:UTC
DTSTART:20240101T000000
END:STANDARD
END:VTIMEZONE
BEGIN:VEVENT
DTSTART;TZID=UTC:20250301T140000
DTEND;TZID=UTC:20250301T153000
DTSTAMP:20260419T235744
CREATED:20240827T044723Z
LAST-MODIFIED:20250824T065424Z
UID:899-1740837600-1740843000@artaban-asso.com
SUMMARY:Nantes - Les grands magasins\, une architecture du désir
DESCRIPTION:Exposition à la Cité de l’Architecture de Paris\, du 16 octobre 2024 au 16 mars 2025\nRedécouvrir l’âge d’or des grands magasins entre le milieu du XIXe siècle et les années 1930\, c’est ce que propose de deuxième volet de l’exposition « la saga des grands magasins » présentée à la Cité de l’architecture et du patrimoine. Entre aventures personnelles et contexte favorable\, à travers des exemples parisiens\, internationaux\, mais aussi plus locaux\, il s’agira de s’intéresser à ces architectures monumentales\, parfois modernes\, conçues pour être à la fois éblouissantes et fonctionnelles. \nRéservez votre place ici
URL:https://artaban-asso.com/event/nantes-les-grands-magasins-une-architecture-du-desir/
LOCATION:Médiathèque\, Médiathèque Jacques Demy - Salle Jules Vallès\, Nantes\, 44000
CATEGORIES:19ème siècle,20ème siècle,Art contemporain,Expo,Nantes
ATTACH;FMTTYPE=image/jpeg:https://artaban-asso.com/wp-content/uploads/2024/08/Interieur-Samaritaine-Visite-guidee-exposition-Architecture-du-Desir-a-la-Cite-de-larchitecture-1880197193.jpeg
END:VEVENT
END:VCALENDAR