BEGIN:VCALENDAR
VERSION:2.0
PRODID:-//Artaban - ECPv6.15.20//NONSGML v1.0//EN
CALSCALE:GREGORIAN
METHOD:PUBLISH
X-ORIGINAL-URL:https://artaban-asso.com
X-WR-CALDESC:Évènements pour Artaban
REFRESH-INTERVAL;VALUE=DURATION:PT1H
X-Robots-Tag:noindex
X-PUBLISHED-TTL:PT1H
BEGIN:VTIMEZONE
TZID:UTC
BEGIN:STANDARD
TZOFFSETFROM:+0000
TZOFFSETTO:+0000
TZNAME:UTC
DTSTART:20240101T000000
END:STANDARD
END:VTIMEZONE
BEGIN:VEVENT
DTSTART;TZID=UTC:20250111T140000
DTEND;TZID=UTC:20250111T153000
DTSTAMP:20260420T030637
CREATED:20240826T164320Z
LAST-MODIFIED:20250824T065245Z
UID:897-1736604000-1736609400@artaban-asso.com
SUMMARY:Nantes - La figure du Fou au Louvre
DESCRIPTION:Exposition du 16 octobre 2024 au 3 février 2025\n\nCet hiver\, le Louvre nous invite à plonger dans un univers fascinant\, mystérieux et déroutant avec sa nouvelle exposition dédiée à la figure du fou dans l’art et la culture du XIIIe au XVIe siècle : un voyage au cœur du Moyen Âge et de la Renaissance\, à travers plus de trois cents œuvres rares et captivantes. \nLe fou\, personnage incontournable dans l’art\, n’était pas simplement là pour divertir. Il incarne un rôle bien plus profond\, ambigu et subversif\, reflétant les tensions et les bouleversements d’une époque en transition. Entre rire et malaise\, bouffonneries et tragédies\, les fous bouleversent l’ordre établi\, inversent les valeurs et nous poussent à repenser notre propre vision du monde.
URL:https://artaban-asso.com/event/nantes-la-figure-du-fou-au-louvre/
LOCATION:Médiathèque\, Médiathèque Jacques Demy - Salle Jules Vallès\, Nantes\, 44000
CATEGORIES:Expo,Moyen-Âge,Nantes,Renaissance
ATTACH;FMTTYPE=image/webp:https://artaban-asso.com/wp-content/uploads/2024/08/9-FOU-maitre-de-1537-portrait-de-fou-regardant-a-travers-ses-doigts-the-phoebus-foundation-anvers.webp
END:VEVENT
END:VCALENDAR