BEGIN:VCALENDAR
VERSION:2.0
PRODID:-//Artaban - ECPv6.15.20//NONSGML v1.0//EN
CALSCALE:GREGORIAN
METHOD:PUBLISH
X-WR-CALNAME:Artaban
X-ORIGINAL-URL:https://artaban-asso.com
X-WR-CALDESC:Évènements pour Artaban
REFRESH-INTERVAL;VALUE=DURATION:PT1H
X-Robots-Tag:noindex
X-PUBLISHED-TTL:PT1H
BEGIN:VTIMEZONE
TZID:UTC
BEGIN:STANDARD
TZOFFSETFROM:+0000
TZOFFSETTO:+0000
TZNAME:UTC
DTSTART:20240101T000000
END:STANDARD
END:VTIMEZONE
BEGIN:VEVENT
DTSTART;TZID=UTC:20250303T180000
DTEND;TZID=UTC:20250303T193000
DTSTAMP:20260419T225734
CREATED:20240908T110828Z
LAST-MODIFIED:20250824T065550Z
UID:1034-1741024800-1741030200@artaban-asso.com
SUMMARY:La Roche sur Yon - Une histoire du théâtre\, XIX-XX° siècles
DESCRIPTION:La conférence développera l’influence du théâtre et de la théâtralité sur la peinture en les replaçant dans une perspective historique ; de la même façon\, dès le XIXe siècle\, les différents mouvements picturaux\, surtout les symbolistes et les nabis\, ont contribué à ouvrir le théâtre vers la modernité. \nAu cours du XXe siècle\, les artistes se passionnent pour la décoration de théâtre (rideau de scène notamment) et le dessin des costumes en collaboration avec des personnalités du théâtre.
URL:https://artaban-asso.com/event/la-roche-sur-yon-une-histoire-du-theatre-xix-xx-siecles/
LOCATION:Théatre de La Roche sur Yon\, Place du Théâtre\, La Roche-sur-Yon\, 85000
CATEGORIES:19ème siècle,20ème siècle,La Roche sur Yon
ATTACH;FMTTYPE=image/jpeg:https://artaban-asso.com/wp-content/uploads/2024/09/7_DEGA_Choristes.jpg
END:VEVENT
BEGIN:VEVENT
DTSTART;TZID=UTC:20250310T140000
DTEND;TZID=UTC:20250310T153000
DTSTAMP:20260419T225734
CREATED:20240908T082252Z
LAST-MODIFIED:20250824T065550Z
UID:1022-1741615200-1741620600@artaban-asso.com
SUMMARY:Tours - L'arbre de la connaissance est-il toujours d'actualité ?
DESCRIPTION:La figure classique de l’arbre de vie est une source d’inspiration inépuisable pour les artistes de la chrétienté jusqu’au XXème siècle. Le thème connaît en effet un renouveau étonnant avec les artistes symbolistes. De façon moins narrative\, les arbres y sont vus comme des piliers qui relient le monde matériel à une réalité supérieure. \nLe thème du «bois sacré»\, adopté par Paul Gauguin et les peintres Nabis lors de leurs séjours à Pont-Aven\, est l’un des exemples les plus significatifs de cette interprétation symboliste\, profondément spirituelle\, du paysage. Celle-ci puise dans le poème Correspondances de Charles Baudelaire\, qui assimile la nature à un temple et la vie humaine à un chemin à travers une forêt de symboles. \n\nRéservez votre place ici.
URL:https://artaban-asso.com/event/tours-larbre-de-la-connaissance-est-il-toujours-dactualite/
LOCATION:Tours\, Cinema CGR Tours centre – 4\, Place François Truffaut\, Tours\, 37000
CATEGORIES:Mythe,Tours
ATTACH;FMTTYPE=image/jpeg:https://artaban-asso.com/wp-content/uploads/2024/09/1200px-Serusier_-_the_talisman.jpg
END:VEVENT
BEGIN:VEVENT
DTSTART;TZID=UTC:20250324T180000
DTEND;TZID=UTC:20250324T193000
DTSTAMP:20260419T225734
CREATED:20240908T114320Z
LAST-MODIFIED:20250824T065549Z
UID:1040-1742839200-1742844600@artaban-asso.com
SUMMARY:La Roche sur Yon - Œuvres dans l'espace public\, lieu de tension entre art et politique
DESCRIPTION:Si l’Art dans l’espace public connaît depuis plusieurs décennies un véritable engouement\, il suscite parfois des incompréhensions de la part des usagers\, voire des attaques assez graves. Contrairement au musée qui constitue un lieu clos et sécurisé\, l’espace public soumet l’œuvre au regard de tous\, sans aucune protection\, et souvent sans aucune médiation. \nC’est en nous appuyant sur de nombreux cas\, notamment à la Roche-sur-Yon\, que nous analyserons les appréciations des citoyens et les réponses des décideurs face\, parfois\, aux invectives des contestataires.
URL:https://artaban-asso.com/event/la-roche-sur-yon-oeuvres-dans-lespace-public-lieu-de-tension-entre-art-et-politique/
LOCATION:CYEL\, 10\, Rue Salvador Allende\, La Roche sur Yon\, 85000
CATEGORIES:Art contemporain,La Roche sur Yon
ATTACH;FMTTYPE=image/jpeg:https://artaban-asso.com/wp-content/uploads/2024/09/10_PAGEs_ColonnR_GP3.jpg
END:VEVENT
END:VCALENDAR