BEGIN:VCALENDAR
VERSION:2.0
PRODID:-//Artaban - ECPv6.15.20//NONSGML v1.0//EN
CALSCALE:GREGORIAN
METHOD:PUBLISH
X-ORIGINAL-URL:https://artaban-asso.com
X-WR-CALDESC:Évènements pour Artaban
REFRESH-INTERVAL;VALUE=DURATION:PT1H
X-Robots-Tag:noindex
X-PUBLISHED-TTL:PT1H
BEGIN:VTIMEZONE
TZID:UTC
BEGIN:STANDARD
TZOFFSETFROM:+0000
TZOFFSETTO:+0000
TZNAME:UTC
DTSTART:20240101T000000
END:STANDARD
END:VTIMEZONE
BEGIN:VEVENT
DTSTART;TZID=UTC:20250201T140000
DTEND;TZID=UTC:20250201T153000
DTSTAMP:20260419T191213
CREATED:20240827T044431Z
LAST-MODIFIED:20250116T085023Z
UID:898-1738418400-1738423800@artaban-asso.com
SUMMARY:Nantes - Exposition José de Ribera au Petit-Palais
DESCRIPTION:Exposition du 5 octobre 2024 au 23 février 2025\nJosé de Ribera fut l’un des peintres caravagesques les plus renommés de son temps. Espagnol installé en Italie\, il fut le représentant de l’orientation napolitaine de cette peinture de clair-obscur que Caravage avait diffusée dans la péninsule. Son art est à la fois rugueux et poétique. Son réalisme sans concession en fait l’un des grands interprètes des drames humains qu’il excelle à mettre en scène dans des compositions spectaculaires. \nLe Petit-Palais propose la première rétrospective française de ce grand peintre et offrira un point de vue original de son travail en confrontant les peintures aux dessins et esquisses\, souvent absentes chez les peintres de sa mouvance. \nRéservez votre place ici
URL:https://artaban-asso.com/event/nantes-exposition-jose-de-ribera-au-petit-palais/
LOCATION:Médiathèque\, Médiathèque Jacques Demy - Salle Jules Vallès\, Nantes\, 44000
CATEGORIES:Art Moderne,Expo,Monographie,Nantes
ATTACH;FMTTYPE=image/jpeg:https://artaban-asso.com/wp-content/uploads/2024/08/12-Jose-de-Ribera-Saint-Jerome-et-lAnge-du-Jugement-1626-huile-sur-toile-262-×-164-cm-Naples-Capodimonte-scaled.jpg
END:VEVENT
BEGIN:VEVENT
DTSTART;TZID=UTC:20250205T150000
DTEND;TZID=UTC:20250205T163000
DTSTAMP:20260419T191213
CREATED:20240825T133112Z
LAST-MODIFIED:20240825T133113Z
UID:877-1738767600-1738773000@artaban-asso.com
SUMMARY:Les Sables d'Olonne - Exposition José de Ribera au Petit-Palais
DESCRIPTION:Exposition du 5 octobre 2024 au 23 février 2025\nJosé de Ribera fut l’un des peintres caravagesques les plus renommés de son temps. Espagnol installé en Italie\, il fut le représentant de l’orientation napolitaine de cette peinture de clair-obscur que Caravage avait diffusée dans la péninsule. Son art est à la fois rugueux et poétique. Son réalisme sans concession en fait l’un des grands interprètes des drames humains qu’il excelle à mettre en scène dans des compositions spectaculaires. \nLe Petit-Palais propose la première rétrospective française de ce grand peintre et offrira un point de vue original de son travail en confrontant les peintures aux dessins et esquisses\, souvent absentes chez les peintres de sa mouvance.
URL:https://artaban-asso.com/event/les-sables-dolonne-exposition-jose-de-ribera-au-petit-palais/
LOCATION:Les Sables d’Olonne\, La Gargamoëlle\, Rue des Anciens Combattants\, Le Château d'Olonne\, 85180
CATEGORIES:Art Moderne,Expo,Les Sables d'Olonne,Monographie
ATTACH;FMTTYPE=image/jpeg:https://artaban-asso.com/wp-content/uploads/2024/08/12-Jose-de-Ribera-Saint-Jerome-et-lAnge-du-Jugement-1626-huile-sur-toile-262-×-164-cm-Naples-Capodimonte-scaled.jpg
END:VEVENT
END:VCALENDAR