BEGIN:VCALENDAR
VERSION:2.0
PRODID:-//Artaban - ECPv6.15.20//NONSGML v1.0//EN
CALSCALE:GREGORIAN
METHOD:PUBLISH
X-ORIGINAL-URL:https://artaban-asso.com
X-WR-CALDESC:Évènements pour Artaban
REFRESH-INTERVAL;VALUE=DURATION:PT1H
X-Robots-Tag:noindex
X-PUBLISHED-TTL:PT1H
BEGIN:VTIMEZONE
TZID:Europe/Paris
BEGIN:DAYLIGHT
TZOFFSETFROM:+0100
TZOFFSETTO:+0200
TZNAME:CEST
DTSTART:20250330T010000
END:DAYLIGHT
BEGIN:STANDARD
TZOFFSETFROM:+0200
TZOFFSETTO:+0100
TZNAME:CET
DTSTART:20251026T010000
END:STANDARD
BEGIN:DAYLIGHT
TZOFFSETFROM:+0100
TZOFFSETTO:+0200
TZNAME:CEST
DTSTART:20260329T010000
END:DAYLIGHT
BEGIN:STANDARD
TZOFFSETFROM:+0200
TZOFFSETTO:+0100
TZNAME:CET
DTSTART:20261025T010000
END:STANDARD
BEGIN:DAYLIGHT
TZOFFSETFROM:+0100
TZOFFSETTO:+0200
TZNAME:CEST
DTSTART:20270328T010000
END:DAYLIGHT
BEGIN:STANDARD
TZOFFSETFROM:+0200
TZOFFSETTO:+0100
TZNAME:CET
DTSTART:20271031T010000
END:STANDARD
END:VTIMEZONE
BEGIN:VEVENT
DTSTART;TZID=Europe/Paris:20260316T180000
DTEND;TZID=Europe/Paris:20260316T193000
DTSTAMP:20260419T143734
CREATED:20250817T044931Z
LAST-MODIFIED:20250825T055840Z
UID:1645-1773684000-1773689400@artaban-asso.com
SUMMARY:16 mars à La Roche sur Yon – Postmodernisme et Historicisme
DESCRIPTION:L’Historicisme et le Postmodernisme : quand l’architecture réagit contre l’uniformisation du Moderne International\nAu milieu des années 1970\, les crises sociales et identitaires traversant les villes modernes ont favorisé l’émergence de l’Historicisme et du Postmodernisme. Ces mouvements ont cherché à infuser du sens dans une architecture jugée trop uniforme et déconnectée de son contexte. \nPourtant\, ce qui s’annonçait comme un questionnement profond sur la perception du lieu et les liens entre mémoire\, identité et innovation s’est peu à peu mué en une caricature de ses propres ambitions.
URL:https://artaban-asso.com/event/postmodernisme-et-historicisme/
LOCATION:CYEL\, 10\, Rue Salvador Allende\, La Roche sur Yon\, 85000
CATEGORIES:20ème siècle,Architecture,La Roche sur Yon
ATTACH;FMTTYPE=image/jpeg:https://artaban-asso.com/wp-content/uploads/2025/08/thumbnail_Les_Espaces_Abraxas_Marne_la_Valle_Paris_France_Ricardo_Bofill_Taller_Arquitectura_01-1-1440x986-1.jpg
END:VEVENT
END:VCALENDAR