BEGIN:VCALENDAR
VERSION:2.0
PRODID:-//Artaban - ECPv6.15.20//NONSGML v1.0//EN
CALSCALE:GREGORIAN
METHOD:PUBLISH
X-WR-CALNAME:Artaban
X-ORIGINAL-URL:https://artaban-asso.com
X-WR-CALDESC:Évènements pour Artaban
REFRESH-INTERVAL;VALUE=DURATION:PT1H
X-Robots-Tag:noindex
X-PUBLISHED-TTL:PT1H
BEGIN:VTIMEZONE
TZID:Europe/Paris
BEGIN:DAYLIGHT
TZOFFSETFROM:+0100
TZOFFSETTO:+0200
TZNAME:CEST
DTSTART:20240331T010000
END:DAYLIGHT
BEGIN:STANDARD
TZOFFSETFROM:+0200
TZOFFSETTO:+0100
TZNAME:CET
DTSTART:20241027T010000
END:STANDARD
BEGIN:DAYLIGHT
TZOFFSETFROM:+0100
TZOFFSETTO:+0200
TZNAME:CEST
DTSTART:20250330T010000
END:DAYLIGHT
BEGIN:STANDARD
TZOFFSETFROM:+0200
TZOFFSETTO:+0100
TZNAME:CET
DTSTART:20251026T010000
END:STANDARD
BEGIN:DAYLIGHT
TZOFFSETFROM:+0100
TZOFFSETTO:+0200
TZNAME:CEST
DTSTART:20260329T010000
END:DAYLIGHT
BEGIN:STANDARD
TZOFFSETFROM:+0200
TZOFFSETTO:+0100
TZNAME:CET
DTSTART:20261025T010000
END:STANDARD
END:VTIMEZONE
BEGIN:VEVENT
DTSTART;TZID=Europe/Paris:20250919T180000
DTEND;TZID=Europe/Paris:20250919T193000
DTSTAMP:20260421T113841
CREATED:20250815T203900Z
LAST-MODIFIED:20250820T121208Z
UID:1502-1758304800-1758310200@artaban-asso.com
SUMMARY:19 septembre à Nantes – Musée de Pont-Aven – Sorcières : Fantasmes\, savoirs\, liberté\, 1860-1920
DESCRIPTION:Pont-Aven – Fantasmes\, savoirs\, liberté\, 1860-1920 du 7 juin au 16 novembre\nL’exposition de Pont-Aven\, réalisée en partenariat avec le musée d’Orsay\, explore la représentation des sorcières dans l’art entre 1860 et 1920. Si dans l’imaginaire collectif ces femmes sont associées aux vices ou à la mort\, 1862 marque une rupture avec la publication de « La Sorcière » de l’historien Jules Michelet : la sorcière devient alors à la fois un emblème de révolte\, de connaissance et d’harmonie avec les éléments naturels\, posant les bases de l’éco-féminisme. Loin de se limiter à l’image de la vieille femme maléfique\, la sorcière devient\, au fil des œuvres\, symbole d’émancipation\, de savoir caché\, de désir et de transgression. \nPeintures\, sculptures\, arts graphiques\, objets d’art\, photographie\, cinéma\, danse\, musique… le parcours riche et pluridisciplinaire se déploie autour de trois axes – la nuit\, le corps\, le savoir – pour interroger cette figure fascinante\, entre attraction et répulsion. À l’occasion de cette exposition nous vous proposons une plongée captivante dans l’imaginaire artistique et social d’un XIXe siècle où la sorcière incarne déjà la femme rebelle et libre face aux pouvoirs établis. \n\nRéservez vos places ici
URL:https://artaban-asso.com/event/nantes-fantasmes-savoirs-liberte-1860-1920-au-musee-de-pont-aven/
LOCATION:Pôle associatif Désiré Colombe\, 8\, rue Arsène Leloup\, Nantes\, 44000\, France
CATEGORIES:19ème siècle,Art Moderne,Expo,Nantes
ATTACH;FMTTYPE=image/jpeg:https://artaban-asso.com/wp-content/uploads/2025/08/1-Evelyn-De-Morgan-Le-Philtre-dAmour-1903-De-Morgan-Foundation.jpg
END:VEVENT
END:VCALENDAR