BEGIN:VCALENDAR
VERSION:2.0
PRODID:-//Artaban - ECPv6.15.20//NONSGML v1.0//EN
CALSCALE:GREGORIAN
METHOD:PUBLISH
X-WR-CALNAME:Artaban
X-ORIGINAL-URL:https://artaban-asso.com
X-WR-CALDESC:Évènements pour Artaban
REFRESH-INTERVAL;VALUE=DURATION:PT1H
X-Robots-Tag:noindex
X-PUBLISHED-TTL:PT1H
BEGIN:VTIMEZONE
TZID:UTC
BEGIN:STANDARD
TZOFFSETFROM:+0000
TZOFFSETTO:+0000
TZNAME:UTC
DTSTART:20230101T000000
END:STANDARD
END:VTIMEZONE
BEGIN:VEVENT
DTSTART;TZID=UTC:20241019T100000
DTEND;TZID=UTC:20241019T120000
DTSTAMP:20260420T072236
CREATED:20240910T111445Z
LAST-MODIFIED:20250824T064129Z
UID:1061-1729332000-1729339200@artaban-asso.com
SUMMARY:Footing Patrimoine : Art Nouveau / Art Déco
DESCRIPTION:Des balades en footing pour redécouvrir le patrimoine nantais \nSamedi 19 octobre\, c’est l’occasion de chausser ses running et découvrir le patrimoine art nouveau et art déco de Nantes. \nLe principe est simple : les participant∙es se retrouvent au lieu de rendez-vous fixé pour le départ de la balade. Le/la médiateur∙ice introduit le thème et ensuite le groupe part (en footing) en direction de la première étape. Le groupe s’arrête\, l’intérêt du lieu est présenté\, on observe\, on échange. Puis c’est reparti vers la deuxième étape… et ainsi de suite. \nPour s’inscrire au Footing Patrimoine\, il suffit de contacter l’association à : association-artaban@hotmail.fr \nLe lieu de rendez-vous vous sera communiqué lors de votre inscription.
URL:https://artaban-asso.com/event/footing-patrimoine-art-nouveau-art-deco/
LOCATION:Nantes
CATEGORIES:Footing Patrimoine,Nantes
ATTACH;FMTTYPE=image/jpeg:https://artaban-asso.com/wp-content/uploads/2024/09/Flyer-Footing-Patrimoine-2024.jpg
END:VEVENT
END:VCALENDAR