BEGIN:VCALENDAR
VERSION:2.0
PRODID:-//Artaban - ECPv6.15.20//NONSGML v1.0//EN
CALSCALE:GREGORIAN
METHOD:PUBLISH
X-ORIGINAL-URL:https://artaban-asso.com
X-WR-CALDESC:Évènements pour Artaban
REFRESH-INTERVAL;VALUE=DURATION:PT1H
X-Robots-Tag:noindex
X-PUBLISHED-TTL:PT1H
BEGIN:VTIMEZONE
TZID:UTC
BEGIN:STANDARD
TZOFFSETFROM:+0000
TZOFFSETTO:+0000
TZNAME:UTC
DTSTART:20240101T000000
END:STANDARD
END:VTIMEZONE
BEGIN:VEVENT
DTSTART;TZID=UTC:20250303T140000
DTEND;TZID=UTC:20250303T153000
DTSTAMP:20260419T233634
CREATED:20240826T163252Z
LAST-MODIFIED:20250824T065244Z
UID:893-1741010400-1741015800@artaban-asso.com
SUMMARY:Tours - Le scarabée et l'œil d'Horus : mythes et symboles égyptiens
DESCRIPTION:Pharaon\, pyramide\, sphinx\, Horus\, momie… des mots qui évoquent vite un univers mythique et historique d’une grande richesse ! Si l’Égypte antique fascine\, si les musées présentant l’art égyptien font le plein\, bien souvent les symboles de l’Égypte ancienne peuvent nous échapper. \nDans cette conférence il s’agira de reconnaître certains des symboles les plus courants de l’art égyptien et d’en apprendre les origines mythologiques à travers quelques-unes des œuvres les plus connues. \n\nRéservez votre place ici
URL:https://artaban-asso.com/event/tours-le-scarabee-et-loeil-dhorus-mythes-et-symboles-egyptiens/
LOCATION:Tours\, Cinema CGR Tours centre – 4\, Place François Truffaut\, Tours\, 37000
CATEGORIES:Antiquité,Mythe,Tours
ATTACH;FMTTYPE=image/jpeg:https://artaban-asso.com/wp-content/uploads/2024/08/52666286919_a7ba696159_b-3950467088.jpg
END:VEVENT
END:VCALENDAR