BEGIN:VCALENDAR
VERSION:2.0
PRODID:-//Artaban - ECPv6.15.20//NONSGML v1.0//EN
CALSCALE:GREGORIAN
METHOD:PUBLISH
X-ORIGINAL-URL:https://artaban-asso.com
X-WR-CALDESC:Évènements pour Artaban
REFRESH-INTERVAL;VALUE=DURATION:PT1H
X-Robots-Tag:noindex
X-PUBLISHED-TTL:PT1H
BEGIN:VTIMEZONE
TZID:UTC
BEGIN:STANDARD
TZOFFSETFROM:+0000
TZOFFSETTO:+0000
TZNAME:UTC
DTSTART:20230101T000000
END:STANDARD
END:VTIMEZONE
BEGIN:VEVENT
DTSTART;TZID=UTC:20241012T140000
DTEND;TZID=UTC:20241012T153000
DTSTAMP:20260421T210532
CREATED:20240824T125119Z
LAST-MODIFIED:20250824T063745Z
UID:805-1728741600-1728747000@artaban-asso.com
SUMMARY:Nantes - Exposition Henri Cartier-Bresson - FHEL Landerneau
DESCRIPTION:Exposition du 15 Juin 2024 au 7 Janvier 2025\nIl n’y a pas un seul\, mais bien plusieurs Henri Cartier-Bresson et c’est ce que l’on va pouvoir découvrir au Fond Hélène et Édouard Leclerc pour la Culture de Landerneau jusqu’en janvier ! \nLe jeune Cartier-Bresson\, très influencé par le Surréalisme\, qui voyage en Afrique\, en Italie et au Mexique dans la première moitié des années 1930\, n’est déjà plus le même à la fin de la décennie lorsqu’il s’engage en politique. Après la Seconde Guerre mondiale\, c’est encore un autre tempérament qui s’exprime lorsqu’il fonde l’agence Magnum Photos et s’en va photographier à travers le monde. La plupart des ouvrages et des expositions monographiques consacrés au photographe se sont évertués à démontrer l’unité stylistique de son œuvre. À rebours de cette approche unificatrice\, et sans doute aussi un peu réductrice\, le présent projet a pour ambition de mettre en évidence la diversité de son approche photographique dans ses différents moments. À travers l’histoire de cet œil multifacette\, cette grande rétrospective retrace aussi celle du XXe siècle. \nCartier-Bresson refusait de se laisser filmer ou photographier. Il ne voulait pas être reconnu dans la rue afin de pouvoir continuer à travailler sereinement. Mais après son exposition au MoMA de New York en 1947\, il est devenu\, à son corps défendant\, l’un des photographes les plus admirés de son époque\, une véritable légende vivante. Beaucoup de professionnels ou d’amateurs qui le croisaient occasionnellement l’ont ainsi photographié\, le plus souvent contre son gré. Il existe donc quantité de portraits de Cartier-Bresson en train d’opérer. Constituée de 300 œuvres parmi les plus connues\, mais aussi de découvertes\, la présente rétrospective est construite autour de ces portraits. \n\nEntrée plein tarif : 12€ / Réduit : 6 € \nRéserver ma place sur HelloAsso
URL:https://artaban-asso.com/event/nantes-exposition-henri-cartier-bresson-fhel-landerneau/
LOCATION:Médiathèque\, Médiathèque Jacques Demy - Salle Jules Vallès\, Nantes\, 44000
CATEGORIES:Art contemporain,Expo,Nantes
ATTACH;FMTTYPE=image/jpeg:https://artaban-asso.com/wp-content/uploads/2024/08/1-Cartier-Bresson-Affiche-1.jpg
END:VEVENT
BEGIN:VEVENT
DTSTART;TZID=UTC:20241020T100000
DTEND;TZID=UTC:20241020T120000
DTSTAMP:20260421T210532
CREATED:20240910T111804Z
LAST-MODIFIED:20250824T064129Z
UID:1062-1729418400-1729425600@artaban-asso.com
SUMMARY:Footing Patrimoine : La reconstruction d’après-guerre
DESCRIPTION:Des balades en footing pour redécouvrir le patrimoine nantais\nDimanche 20 octobre\, c’est l’occasion de chausser ses running et découvrir l’architecture des constructions d’après-guerre à Nantes. \nLe principe est simple : les participant∙es se retrouvent au lieu de rendez-vous fixé pour le départ de la balade. Le/la médiateur∙ice introduit le thème et ensuite le groupe part (en footing) en direction de la première étape. Le groupe s’arrête\, l’intérêt du lieu est présenté\, on observe\, on échange. Puis c’est reparti vers la deuxième étape… et ainsi de suite. \nPour s’inscrire au Footing Patrimoine\, il suffit de contacter l’association à : association-artaban@hotmail.fr \nLe lieu de rendez-vous vous sera communiqué lors de votre inscription.
URL:https://artaban-asso.com/event/footing-patrimoine-la-reconstruction-dapres-guerre/
LOCATION:Nantes
CATEGORIES:20ème siècle,Footing Patrimoine,Nantes
ATTACH;FMTTYPE=image/jpeg:https://artaban-asso.com/wp-content/uploads/2024/09/Flyer-Footing-Patrimoine-2024.jpg
END:VEVENT
END:VCALENDAR