BEGIN:VCALENDAR
VERSION:2.0
PRODID:-//Artaban - ECPv6.15.20//NONSGML v1.0//EN
CALSCALE:GREGORIAN
METHOD:PUBLISH
X-ORIGINAL-URL:https://artaban-asso.com
X-WR-CALDESC:Évènements pour Artaban
REFRESH-INTERVAL;VALUE=DURATION:PT1H
X-Robots-Tag:noindex
X-PUBLISHED-TTL:PT1H
BEGIN:VTIMEZONE
TZID:Europe/Paris
BEGIN:DAYLIGHT
TZOFFSETFROM:+0100
TZOFFSETTO:+0200
TZNAME:CEST
DTSTART:20240331T010000
END:DAYLIGHT
BEGIN:STANDARD
TZOFFSETFROM:+0200
TZOFFSETTO:+0100
TZNAME:CET
DTSTART:20241027T010000
END:STANDARD
BEGIN:DAYLIGHT
TZOFFSETFROM:+0100
TZOFFSETTO:+0200
TZNAME:CEST
DTSTART:20250330T010000
END:DAYLIGHT
BEGIN:STANDARD
TZOFFSETFROM:+0200
TZOFFSETTO:+0100
TZNAME:CET
DTSTART:20251026T010000
END:STANDARD
BEGIN:DAYLIGHT
TZOFFSETFROM:+0100
TZOFFSETTO:+0200
TZNAME:CEST
DTSTART:20260329T010000
END:DAYLIGHT
BEGIN:STANDARD
TZOFFSETFROM:+0200
TZOFFSETTO:+0100
TZNAME:CET
DTSTART:20261025T010000
END:STANDARD
END:VTIMEZONE
BEGIN:VEVENT
DTSTART;TZID=Europe/Paris:20251212T190000
DTEND;TZID=Europe/Paris:20251212T203000
DTSTAMP:20260425T025217
CREATED:20250818T135842Z
LAST-MODIFIED:20250820T120829Z
UID:1810-1765566000-1765571400@artaban-asso.com
SUMMARY:12 décembre à Saint-Jean-de-Monts – Paris Noir
DESCRIPTION:Paris Noir\nCette conférence fait écho à la dernière exposition du Centre Pompidou avant sa fermeture pour travaux. Elle retrace la présence et l’influence des artistes noirs en France dans la seconde moitié du XXe siècle – de l’Afrique aux Amériques\, en passant par la Caraïbe – et nous invite à découvrir un Paris cosmopolite\, moteur d’une histoire de l’art à la fois transnationale et panafricaine.
URL:https://artaban-asso.com/event/saint-jean-de-monts-paris-noir/
LOCATION:Médiathèque de Saint-Jean-de-Monts\, Boulevard Maréchal Leclerc\, Saint-Jean-de-Monts\, 85160
CATEGORIES:20ème siècle,Art contemporain,Expo,Saint-Jean-de-Monts
ATTACH;FMTTYPE=image/jpeg:https://artaban-asso.com/wp-content/uploads/2025/08/2_CORAN_Delire_Paixtoile-2-scaled.jpg
END:VEVENT
BEGIN:VEVENT
DTSTART;TZID=Europe/Paris:20251213T140000
DTEND;TZID=Europe/Paris:20251213T153000
DTSTAMP:20260425T025217
CREATED:20250815T203119Z
LAST-MODIFIED:20251111T144118Z
UID:1499-1765634400-1765639800@artaban-asso.com
SUMMARY:13 décembre à Nantes - Berthe Weill\, galeriste d'avant-garde au Musée de l'Orangerie
DESCRIPTION:Berthe Weill\, galeriste d’avant-garde – Musée de l’Orangerie – 8 octobre – 26 janvier 26  \nBerthe Weill est l’une des exceptions de son époque que l’on aime redécouvrir. En 1901\, elle ouvre sa première galerie et souhaite représenter les jeunes artistes de son temps. Avec son œil affuté\, elle mise sur les plus avant-gardistes : Pablo Picasso\, Amedeo Modigliani\, Henri Matisse… \nBerthe Weill s’engage également auprès des femmes artistes\, exposant régulièrement les travaux de Jacqueline Marval ou encore Suzanne Valadon. Pendant 40 ans\, Berthe Weill œuvre pour la reconnaissance de nombreux artistes et participe au rayonnement culturel parisien. Le Musée de l’Orangerie remet à l’honneur l’une des pionnières du marché de l’art. \n\nRéservez votre place ici
URL:https://artaban-asso.com/event/nantes-berthe-weill-galeriste-davant-garde-au-musee-de-lorangerie/
LOCATION:Médiathèque\, Médiathèque Jacques Demy - Salle Jules Vallès\, Nantes\, 44000
CATEGORIES:20ème siècle,Expo,Monographie,Nantes
ATTACH;FMTTYPE=image/jpeg:https://artaban-asso.com/wp-content/uploads/2025/08/1-Raoul-Dufy-30-ans-ou-la-vie-en-rose-1931-Musee-des-Beaux-Arts-de-Montreal-scaled.jpg
END:VEVENT
END:VCALENDAR