BEGIN:VCALENDAR
VERSION:2.0
PRODID:-//Artaban - ECPv6.15.20//NONSGML v1.0//EN
CALSCALE:GREGORIAN
METHOD:PUBLISH
X-ORIGINAL-URL:https://artaban-asso.com
X-WR-CALDESC:Évènements pour Artaban
REFRESH-INTERVAL;VALUE=DURATION:PT1H
X-Robots-Tag:noindex
X-PUBLISHED-TTL:PT1H
BEGIN:VTIMEZONE
TZID:UTC
BEGIN:STANDARD
TZOFFSETFROM:+0000
TZOFFSETTO:+0000
TZNAME:UTC
DTSTART:20230101T000000
END:STANDARD
END:VTIMEZONE
BEGIN:VEVENT
DTSTART;TZID=UTC:20241202T140000
DTEND;TZID=UTC:20241202T153000
DTSTAMP:20260425T184544
CREATED:20240825T105650Z
LAST-MODIFIED:20250824T064128Z
UID:858-1733148000-1733153400@artaban-asso.com
SUMMARY:Tours - Les grands magasins\, une architecture du désir
DESCRIPTION:Exposition à la Cité de l’Architecture de Paris\, du 16 octobre 2024 au 16 mars 2025\nRedécouvrir l’âge d’or des grands magasins entre le milieu du XIXe siècle et les années 1930\, c’est ce que propose de deuxième volet de l’exposition « la saga des grands magasins » présentée à la Cité de l’architecture et du patrimoine. Entre aventures personnelles et contexte favorable\, à travers des exemples parisiens\, internationaux\, mais aussi plus locaux\, il s’agira de s’intéresser à ces architectures monumentales\, parfois modernes\, conçues pour être à la fois éblouissantes et fonctionnelles. \n\nRéserver ma place sur HelloAsso
URL:https://artaban-asso.com/event/tours-grands-magasins/
LOCATION:Tours\, Cinema CGR Tours centre – 4\, Place François Truffaut\, Tours\, 37000
CATEGORIES:19ème siècle,20ème siècle,Art contemporain,Expo,Tours
ATTACH;FMTTYPE=image/jpeg:https://artaban-asso.com/wp-content/uploads/2024/08/Interieur-Samaritaine-Visite-guidee-exposition-Architecture-du-Desir-a-la-Cite-de-larchitecture-1880197193.jpeg
END:VEVENT
BEGIN:VEVENT
DTSTART;TZID=UTC:20241202T180000
DTEND;TZID=UTC:20241202T193000
DTSTAMP:20260425T184544
CREATED:20240825T082634Z
LAST-MODIFIED:20240825T082634Z
UID:839-1733162400-1733167800@artaban-asso.com
SUMMARY:La Roche sur Yon - Surréalisme : l'exposition du centenaire au Centre Pompidou
DESCRIPTION:Exposition du 4 Septembre 2024 au 6 Janvier 2025\nL’exposition rassemble les œuvres réalisées par les artistes représentatifs du mouvement : Salvador Dali\, René Magritte\, Dorothea Tanning\, Giorgio de Chirico\, Leonora Carrington\, Max Ernst\, Joan Miro… réunis autour du Manifeste original d’André Breton\, texte fondateur du mouvement. Le parcours évoque l’évolution du mouvement dans les différents cercles artistiques\, l’influence majeure de la littérature sur l’art pictural\, les principes poétiques et le rêve qui structurent l’imaginaire surréaliste.
URL:https://artaban-asso.com/event/la-roche-sur-yon-surrealisme-lexposition-du-centenaire-au-centre-pompidou/
LOCATION:CYEL\, 10\, Rue Salvador Allende\, La Roche sur Yon\, 85000
CATEGORIES:20ème siècle,Art contemporain,Expo,La Roche sur Yon
ATTACH;FMTTYPE=image/jpeg:https://artaban-asso.com/wp-content/uploads/2024/08/10-Expo_Surrealiste.jpg
END:VEVENT
BEGIN:VEVENT
DTSTART;TZID=UTC:20241213T190000
DTEND;TZID=UTC:20241213T203000
DTSTAMP:20260425T184544
CREATED:20240825T123342Z
LAST-MODIFIED:20250824T063959Z
UID:870-1734116400-1734121800@artaban-asso.com
SUMMARY:Saint-Jean-de-Monts - David Hockney et autres peintres de paysages contemporains
DESCRIPTION:Peintre anglais vivant désormais en Normandie\, David Hockney a été une figure majeure du mouvement pop-art dans les années 60. Il renouvelle aujourd’hui le genre du paysage\, utilisant des couleurs acidulées et attirantes. \nParallèlement plusieurs artistes français ou allemands sont également des «peintres de paysage» contemporains : Philippe Cognée\, Bernanrd Lavier\, Wolfgang Laib\, George Richter\, Anselm Kieffer…
URL:https://artaban-asso.com/event/saint-jean-de-monts-david-hockney-et-autres-peintres-de-paysages-contemporains/
LOCATION:Médiathèque de Saint-Jean-de-Monts\, Boulevard Maréchal Leclerc\, Saint-Jean-de-Monts\, 85160
CATEGORIES:20ème siècle,Art contemporain,Monographie,Saint-Jean-de-Monts
ATTACH;FMTTYPE=image/jpeg:https://artaban-asso.com/wp-content/uploads/2024/08/resize-LIGHTRMsut-221216-Portrait-3537-scaled-2163420451.jpg
END:VEVENT
END:VCALENDAR