BEGIN:VCALENDAR
VERSION:2.0
PRODID:-//Artaban - ECPv6.15.20//NONSGML v1.0//EN
CALSCALE:GREGORIAN
METHOD:PUBLISH
X-ORIGINAL-URL:https://artaban-asso.com
X-WR-CALDESC:Évènements pour Artaban
REFRESH-INTERVAL;VALUE=DURATION:PT1H
X-Robots-Tag:noindex
X-PUBLISHED-TTL:PT1H
BEGIN:VTIMEZONE
TZID:Europe/Paris
BEGIN:DAYLIGHT
TZOFFSETFROM:+0100
TZOFFSETTO:+0200
TZNAME:CEST
DTSTART:20250330T010000
END:DAYLIGHT
BEGIN:STANDARD
TZOFFSETFROM:+0200
TZOFFSETTO:+0100
TZNAME:CET
DTSTART:20251026T010000
END:STANDARD
BEGIN:DAYLIGHT
TZOFFSETFROM:+0100
TZOFFSETTO:+0200
TZNAME:CEST
DTSTART:20260329T010000
END:DAYLIGHT
BEGIN:STANDARD
TZOFFSETFROM:+0200
TZOFFSETTO:+0100
TZNAME:CET
DTSTART:20261025T010000
END:STANDARD
BEGIN:DAYLIGHT
TZOFFSETFROM:+0100
TZOFFSETTO:+0200
TZNAME:CEST
DTSTART:20270328T010000
END:DAYLIGHT
BEGIN:STANDARD
TZOFFSETFROM:+0200
TZOFFSETTO:+0100
TZNAME:CET
DTSTART:20271031T010000
END:STANDARD
END:VTIMEZONE
BEGIN:VEVENT
DTSTART;TZID=Europe/Paris:20260302T180000
DTEND;TZID=Europe/Paris:20260302T193000
DTSTAMP:20260424T180711
CREATED:20250817T044030Z
LAST-MODIFIED:20250821T164306Z
UID:1640-1772474400-1772479800@artaban-asso.com
SUMMARY:2 mars à La Roche sur Yon – Cité de l'Architecture – Paris 1925\, l'Art Déco et ses architectes
DESCRIPTION:Cité de l’Architecture – Paris 1925\, l’Art Déco et ses architectes\, du 24 octobre au 29 mars 2026\nEn avril 1925 se tient à Paris une exposition consacrée aux Arts décoratifs et industriels modernes\, exposition manifeste qui laissa dans l’imaginaire collectif l’expression «Art déco» et le style qui lui est associé. \nPour en fêter le centenaire\, la Cité de l’architecture et du patrimoine présente du 22 octobre 2025 au 29 mars 2026 une exposition en forme d’hommage à une époque incarnée par une génération de précurseurs qui ont imaginé un style innovant\, posant les bases de l’architecture moderne. L’occasion aussi de revivre de cette effervescence créative\, grâce à une reconstitution immersive de l’exposition de 1925.
URL:https://artaban-asso.com/event/la-roche-sur-yon-cite-de-larchitecture-paris-1925-lart-deco-et-ses-architectes/
LOCATION:CYEL\, 10\, Rue Salvador Allende\, La Roche sur Yon\, 85000
CATEGORIES:20ème siècle,Architecture,Expo,La Roche sur Yon
ATTACH;FMTTYPE=image/webp:https://artaban-asso.com/wp-content/uploads/2025/08/louxor-paris-cinema.webp
END:VEVENT
BEGIN:VEVENT
DTSTART;TZID=Europe/Paris:20260309T180000
DTEND;TZID=Europe/Paris:20260309T193000
DTSTAMP:20260424T180711
CREATED:20250817T044206Z
LAST-MODIFIED:20250820T120311Z
UID:1643-1773079200-1773084600@artaban-asso.com
SUMMARY:9 mars à La Roche sur Yon – Sorcières au Château des ducs de Bretagne
DESCRIPTION:Sorcières au Château des ducs de Bretagne – Du 7 février au 28 juin 2026\nPendant plusieurs siècles\, des femmes bien réelles furent accusées d’invoquer des forces maléfiques et de jeter des sorts à des innocents\, de la fin du Moyen Âge à la Renaissance. L’exposition du Château des Ducs de Bretagne explorera les différentes figures historiques ou légendaires des magiciennes et des sorcières\, en remontant jusqu’à l’Antiquité. \nUne approche novatrice mettra en lumière les biographies de femmes accusées et condamnées pour sorcellerie entre la fin du Moyen Âge et l’époque moderne\, illustrant leurs parcours tragiques. Voici un beau complément à l’imaginaire plus moderne posé par l’exposition de Pont-Aven ! À travers un parcours riche de plus de 150 objets et documents originaux\, dont une cinquantaine d’œuvres majeures\, l’exposition est l’événement nantais du printemps 2026.
URL:https://artaban-asso.com/event/la-roche-sur-yon-sorcieres-au-chateau-des-ducs-de-bretagne/
LOCATION:CYEL\, 10\, Rue Salvador Allende\, La Roche sur Yon\, 85000
CATEGORIES:Expo,La Roche sur Yon,Toutes périodes
ATTACH;FMTTYPE=image/jpeg:https://artaban-asso.com/wp-content/uploads/2025/08/14-Marcantonio-Raimondi-dapres-Girolamo-Genga-Sur-le-chemin-du-Sabbat-gravure-au-burin-vers-1520-scaled.jpg
END:VEVENT
BEGIN:VEVENT
DTSTART;TZID=Europe/Paris:20260316T180000
DTEND;TZID=Europe/Paris:20260316T193000
DTSTAMP:20260424T180711
CREATED:20250817T044931Z
LAST-MODIFIED:20250825T055840Z
UID:1645-1773684000-1773689400@artaban-asso.com
SUMMARY:16 mars à La Roche sur Yon – Postmodernisme et Historicisme
DESCRIPTION:L’Historicisme et le Postmodernisme : quand l’architecture réagit contre l’uniformisation du Moderne International\nAu milieu des années 1970\, les crises sociales et identitaires traversant les villes modernes ont favorisé l’émergence de l’Historicisme et du Postmodernisme. Ces mouvements ont cherché à infuser du sens dans une architecture jugée trop uniforme et déconnectée de son contexte. \nPourtant\, ce qui s’annonçait comme un questionnement profond sur la perception du lieu et les liens entre mémoire\, identité et innovation s’est peu à peu mué en une caricature de ses propres ambitions.
URL:https://artaban-asso.com/event/postmodernisme-et-historicisme/
LOCATION:CYEL\, 10\, Rue Salvador Allende\, La Roche sur Yon\, 85000
CATEGORIES:20ème siècle,Architecture,La Roche sur Yon
ATTACH;FMTTYPE=image/jpeg:https://artaban-asso.com/wp-content/uploads/2025/08/thumbnail_Les_Espaces_Abraxas_Marne_la_Valle_Paris_France_Ricardo_Bofill_Taller_Arquitectura_01-1-1440x986-1.jpg
END:VEVENT
BEGIN:VEVENT
DTSTART;TZID=Europe/Paris:20260323T180000
DTEND;TZID=Europe/Paris:20260323T193000
DTSTAMP:20260424T180711
CREATED:20250817T052650Z
LAST-MODIFIED:20250820T151137Z
UID:1648-1774288800-1774294200@artaban-asso.com
SUMMARY:23 mars à La Roche sur Yon – Expressions premières et singulières : l'après Chaissac
DESCRIPTION:Expressions premières et singulières : l’après Chaissac\nÀ travers son œuvre\, marquée par une spontanéité expressive\, des matériaux modestes et une écriture plastique unique\, Chaissac a ouvert une voie : nous découvrirons ainsi d’autres artistes (autodidactes\, marginaux ou simplement animés d’une volonté d’expression libre) qui ont poursuivi cette quête d’une parole plastique sincère\, instinctive et profondément personnelle. \nEntre naïveté revendiquée et invention formelle\, ces expressions singulières tracent un parcours artistique en dehors des sentiers battus\, où la force créative naît souvent d’un regard différent sur le monde.
URL:https://artaban-asso.com/event/expressions-premieres-et-singulieres-lapres-chaissac/
LOCATION:CYEL\, 10\, Rue Salvador Allende\, La Roche sur Yon\, 85000
CATEGORIES:20ème siècle,La Roche sur Yon
ATTACH;FMTTYPE=image/jpeg:https://artaban-asso.com/wp-content/uploads/2025/08/Chaissac.jpeg
END:VEVENT
BEGIN:VEVENT
DTSTART;TZID=Europe/Paris:20260330T180000
DTEND;TZID=Europe/Paris:20260330T193000
DTSTAMP:20260424T180711
CREATED:20250817T052847Z
LAST-MODIFIED:20250824T120609Z
UID:1652-1774893600-1774899000@artaban-asso.com
SUMMARY:30 mars à La Roche sur Yon – De l’art optique à l’art numérique
DESCRIPTION: N \nDe l’art optique à l’art numérique\nHéritier de l’abstraction géométrique\, l’art optique marque profondément les années 1960. Un nouveau langage plastique émerge\, caractérisé par les motifs de grilles\, carrés\, cercles et les contrastes violents de couleurs. Les artistes\, qui travaillent souvent en collectifs\, placent le spectateur au centre de leurs préoccupations en créant des œuvres interactives permettant des expérimentations visuelles. \nAu même moment\, les ordinateurs font leur apparition. Tout naturellement\, les artistes s’emparent ou s’inspirent de cette nouvelle technologie posant les bases d’un futur art numérique.
URL:https://artaban-asso.com/event/la-roche-sur-yon-de-lart-optique-a-lart-numerique/
LOCATION:CYEL\, 10\, Rue Salvador Allende\, La Roche sur Yon\, 85000
CATEGORIES:20ème siècle,Art contemporain,Courant artistique,La Roche sur Yon
ATTACH;FMTTYPE=image/png:https://artaban-asso.com/wp-content/uploads/2025/08/30_03_2025_De-lart-optique-a-lart-numerique_Francois-Morellet.png
END:VEVENT
END:VCALENDAR