BEGIN:VCALENDAR
VERSION:2.0
PRODID:-//Artaban - ECPv6.15.20//NONSGML v1.0//EN
CALSCALE:GREGORIAN
METHOD:PUBLISH
X-ORIGINAL-URL:https://artaban-asso.com
X-WR-CALDESC:Évènements pour Artaban
REFRESH-INTERVAL;VALUE=DURATION:PT1H
X-Robots-Tag:noindex
X-PUBLISHED-TTL:PT1H
BEGIN:VTIMEZONE
TZID:Europe/Paris
BEGIN:DAYLIGHT
TZOFFSETFROM:+0100
TZOFFSETTO:+0200
TZNAME:CEST
DTSTART:20250330T010000
END:DAYLIGHT
BEGIN:STANDARD
TZOFFSETFROM:+0200
TZOFFSETTO:+0100
TZNAME:CET
DTSTART:20251026T010000
END:STANDARD
BEGIN:DAYLIGHT
TZOFFSETFROM:+0100
TZOFFSETTO:+0200
TZNAME:CEST
DTSTART:20260329T010000
END:DAYLIGHT
BEGIN:STANDARD
TZOFFSETFROM:+0200
TZOFFSETTO:+0100
TZNAME:CET
DTSTART:20261025T010000
END:STANDARD
BEGIN:DAYLIGHT
TZOFFSETFROM:+0100
TZOFFSETTO:+0200
TZNAME:CEST
DTSTART:20270328T010000
END:DAYLIGHT
BEGIN:STANDARD
TZOFFSETFROM:+0200
TZOFFSETTO:+0100
TZNAME:CET
DTSTART:20271031T010000
END:STANDARD
END:VTIMEZONE
BEGIN:VEVENT
DTSTART;TZID=Europe/Paris:20260105T180000
DTEND;TZID=Europe/Paris:20260105T193000
DTSTAMP:20260424T204058
CREATED:20250816T161031Z
LAST-MODIFIED:20250820T120758Z
UID:1627-1767636000-1767641400@artaban-asso.com
SUMMARY:5 janvier à La Roche sur Yon - Berthe Weill\, galeriste d'avant-garde au Musée de l'Orangerie
DESCRIPTION:Berthe Weill\, galeriste d’avant-garde – Musée de l’Orangerie – 8 octobre – 26 janvier 26  \nBerthe Weill est l’une des exceptions de son époque que l’on aime redécouvrir. En 1901\, elle ouvre sa première galerie et souhaite représenter les jeunes artistes de son temps. Avec son œil affuté\, elle mise sur les plus avant-gardistes : Pablo Picasso\, Amedeo Modigliani\, Henri Matisse… \nBerthe Weill s’engage également auprès des femmes artistes\, exposant régulièrement les travaux de Jacqueline Marval ou encore Suzanne Valadon. Pendant 40 ans\, Berthe Weill œuvre pour la reconnaissance de nombreux artistes et participe au rayonnement culturel parisien. Le Musée de l’Orangerie remet à l’honneur l’une des pionnières du marché de l’art.
URL:https://artaban-asso.com/event/la-roche-sur-yon-berthe-weill-galeriste-davant-garde-au-musee-de-lorangerie/
LOCATION:CYEL\, 10\, Rue Salvador Allende\, La Roche sur Yon\, 85000
CATEGORIES:20ème siècle,Expo,La Roche sur Yon,Monographie
ATTACH;FMTTYPE=image/jpeg:https://artaban-asso.com/wp-content/uploads/2025/08/1-Raoul-Dufy-30-ans-ou-la-vie-en-rose-1931-Musee-des-Beaux-Arts-de-Montreal-scaled.jpg
END:VEVENT
BEGIN:VEVENT
DTSTART;TZID=Europe/Paris:20260119T180000
DTEND;TZID=Europe/Paris:20260119T193000
DTSTAMP:20260424T204058
CREATED:20250816T161515Z
LAST-MODIFIED:20250820T120711Z
UID:1629-1768845600-1768851000@artaban-asso.com
SUMMARY:19 janvier à La Roche sur Yon – Corps\, entre danse et arts visuels
DESCRIPTION:Corps\, entre danse et arts visuels\nAu-delà des simples « décors » de ballets\, la danse – art plastique s’il en est – a entretenu et entretient des relations fructueuses avec les arts dits visuels ou plastiques. Sources d’inspirations mutuelles\, mais aussi collaborations étroites entre artistes\, chaque domaine est susceptible de nourrir l’autre\, en proposant des réponses spécifiques à des interrogations communes. De la modernité aux arts numériques\, nous visiterons certaines des rencontres les plus fructueuses.
URL:https://artaban-asso.com/event/la-roche-sur-yon-corps-entre-danse-et-arts-visuels/
LOCATION:CYEL\, 10\, Rue Salvador Allende\, La Roche sur Yon\, 85000
CATEGORIES:La Roche sur Yon,Toutes périodes
ATTACH;FMTTYPE=image/jpeg:https://artaban-asso.com/wp-content/uploads/2025/08/2_Martha-Graham_robe-Arraignee.jpg
END:VEVENT
BEGIN:VEVENT
DTSTART;TZID=Europe/Paris:20260126T180000
DTEND;TZID=Europe/Paris:20260126T193000
DTSTAMP:20260424T204058
CREATED:20250816T161700Z
LAST-MODIFIED:20250820T120651Z
UID:1632-1769450400-1769455800@artaban-asso.com
SUMMARY:26 janvier à La Roche sur Yon – L'Empire du sommeil au musée Marmottan Monet
DESCRIPTION:L’Empire du sommeil au musée Marmottan Monet – Du 9 octobre au 1er mars 2026\nL’exposition L’Empire du Sommeil explore les représentations du sommeil en peinture entre le XIXe et le XXe siècle. Elle en interroge la portée symbolique\, allégorique et iconographique\, tant profane que sacrée\, en lien avec les avancées scientifiques\, philosophiques et psychanalytiques. \nL’exposition mettra en dialogue des œuvres de différentes époques autour de thèmes récurrents comme l’innocence\, le rêve\, la mort\, l’érotisme ou encore les troubles du sommeil\, et consacrera une section à la symbolique de la chambre à coucher. \n 
URL:https://artaban-asso.com/event/la-roche-sur-yon-lempire-du-sommeil-au-musee-marmottan-monet/
LOCATION:CYEL\, 10\, Rue Salvador Allende\, La Roche sur Yon\, 85000
CATEGORIES:19ème siècle,Expo,La Roche sur Yon
ATTACH;FMTTYPE=image/png:https://artaban-asso.com/wp-content/uploads/2025/08/Image-collee.png
END:VEVENT
END:VCALENDAR