BEGIN:VCALENDAR
VERSION:2.0
PRODID:-//Artaban - ECPv6.15.20//NONSGML v1.0//EN
CALSCALE:GREGORIAN
METHOD:PUBLISH
X-ORIGINAL-URL:https://artaban-asso.com
X-WR-CALDESC:Évènements pour Artaban
REFRESH-INTERVAL;VALUE=DURATION:PT1H
X-Robots-Tag:noindex
X-PUBLISHED-TTL:PT1H
BEGIN:VTIMEZONE
TZID:Europe/Paris
BEGIN:DAYLIGHT
TZOFFSETFROM:+0100
TZOFFSETTO:+0200
TZNAME:CEST
DTSTART:20240331T010000
END:DAYLIGHT
BEGIN:STANDARD
TZOFFSETFROM:+0200
TZOFFSETTO:+0100
TZNAME:CET
DTSTART:20241027T010000
END:STANDARD
BEGIN:DAYLIGHT
TZOFFSETFROM:+0100
TZOFFSETTO:+0200
TZNAME:CEST
DTSTART:20250330T010000
END:DAYLIGHT
BEGIN:STANDARD
TZOFFSETFROM:+0200
TZOFFSETTO:+0100
TZNAME:CET
DTSTART:20251026T010000
END:STANDARD
BEGIN:DAYLIGHT
TZOFFSETFROM:+0100
TZOFFSETTO:+0200
TZNAME:CEST
DTSTART:20260329T010000
END:DAYLIGHT
BEGIN:STANDARD
TZOFFSETFROM:+0200
TZOFFSETTO:+0100
TZNAME:CET
DTSTART:20261025T010000
END:STANDARD
END:VTIMEZONE
BEGIN:VEVENT
DTSTART;TZID=Europe/Paris:20251006T180000
DTEND;TZID=Europe/Paris:20251006T193000
DTSTAMP:20260425T002551
CREATED:20250815T153002Z
LAST-MODIFIED:20250820T121116Z
UID:1470-1759773600-1759779000@artaban-asso.com
SUMMARY:6 octobre à La Roche sur Yon – Créer collectivement - co-création - art collaboratif 
DESCRIPTION:La collaboration entre artistes\, entre artistes et artisans ou entre commanditaires/mécènes et artistes\, existe depuis l’Antiquité et le Moyen Âge. La tradition de l’atelier de la Renaissance s’appuie sur cet héritage et organise matériellement un art collaboratif entre le maître\, ses compagnons et ses élèves mais également parfois entre ateliers. Cependant\, il s’agit là de pratiques collectives plus que de co-création à l’image des impressionnistes qui partagent leur questionnement sur les façons de faire vibrer la lumière. \nCe sont les avant-gardes du XXe siècle qui vont contribuer à l’émergence d’une co-création effective dans le cadre des pratiques performatives. La collaboration n’est plus seulement une plus-value qualitative ou quantitative\, maîtrise de tel ou tel savoir-faire\, mais bien une tentative de nouvelle définition de l’œuvre d’art affranchie des règles établies. Il s’agira de comprendre en quoi l’acte de co-créer et de collaborer peut transcender le processus créatif dans l’art contemporain.
URL:https://artaban-asso.com/event/la-roche-sur-yon-creer-collectivement-co-creation-art-collaboratif/
LOCATION:CYEL\, 10\, Rue Salvador Allende\, La Roche sur Yon\, 85000
CATEGORIES:Art contemporain,La Roche sur Yon
ATTACH;FMTTYPE=image/jpeg:https://artaban-asso.com/wp-content/uploads/2025/08/3-Co-creation-Collectif-Newyorkais-DIS-Fair_Trade._Frieze_Projects_2012-credit-photos-DIS.jpg
END:VEVENT
END:VCALENDAR